BEGIN:VCALENDAR
VERSION:2.0
PRODID:-//Stichting Register Fiscaal &amp; Financieel Advies - ECPv6.15.20//NONSGML v1.0//EN
CALSCALE:GREGORIAN
METHOD:PUBLISH
X-WR-CALNAME:Stichting Register Fiscaal &amp; Financieel Advies
X-ORIGINAL-URL:https://www.srfa.nl
X-WR-CALDESC:Evenementen voor Stichting Register Fiscaal &amp; Financieel Advies
REFRESH-INTERVAL;VALUE=DURATION:PT1H
X-Robots-Tag:noindex
X-PUBLISHED-TTL:PT1H
BEGIN:VTIMEZONE
TZID:Europe/Amsterdam
BEGIN:DAYLIGHT
TZOFFSETFROM:+0100
TZOFFSETTO:+0200
TZNAME:CEST
DTSTART:20250330T010000
END:DAYLIGHT
BEGIN:STANDARD
TZOFFSETFROM:+0200
TZOFFSETTO:+0100
TZNAME:CET
DTSTART:20251026T010000
END:STANDARD
BEGIN:DAYLIGHT
TZOFFSETFROM:+0100
TZOFFSETTO:+0200
TZNAME:CEST
DTSTART:20260329T010000
END:DAYLIGHT
BEGIN:STANDARD
TZOFFSETFROM:+0200
TZOFFSETTO:+0100
TZNAME:CET
DTSTART:20261025T010000
END:STANDARD
BEGIN:DAYLIGHT
TZOFFSETFROM:+0100
TZOFFSETTO:+0200
TZNAME:CEST
DTSTART:20270328T010000
END:DAYLIGHT
BEGIN:STANDARD
TZOFFSETFROM:+0200
TZOFFSETTO:+0100
TZNAME:CET
DTSTART:20271031T010000
END:STANDARD
END:VTIMEZONE
BEGIN:VEVENT
DTSTART;TZID=Europe/Amsterdam:20261001T130000
DTEND;TZID=Europe/Amsterdam:20261001T180000
DTSTAMP:20260421T215334
CREATED:20260113T104053Z
LAST-MODIFIED:20260114T105637Z
UID:23757-1790859600-1790877600@www.srfa.nl
SUMMARY:Updatesessie: Update Prinsjesdag | Koen Sars | 1 oktober 2026 | 5 PE-punten – Fysiek
DESCRIPTION:Prinsjesdag: dit betekent het voor jouw praktijk\nDe plannen die op Prinsjesdag worden gepresenteerd hebben elk jaar grote invloed op ondernemers\, dga’s en particulieren. Voor accountants en mkb-adviseurs is het daarom belangrijk om snel en goed inzicht te krijgen in wat er verandert\, welke voorstellen concreet worden en wat dit betekent voor de adviespraktijk. \nTijdens deze cursus neemt Koen Sars je mee langs de belangrijkste fiscale voorstellen uit het Belastingplan en aanverwante wetgeving. De nadruk ligt daarbij op de praktische gevolgen voor cliënten en de vraag hoe je hen tijdig en goed kunt adviseren. \nAan de hand van herkenbare praktijksituaties bespreekt hij in ieder geval: \n\nde belangrijkste fiscale wijzigingen uit het Belastingplan\naandachtspunten voor ondernemers en dga’s\nrelevante maatregelen voor werkgevers en werknemers\ngevolgen voor de dagelijkse adviespraktijk\nkansen en risico’s richting het nieuwe jaar\n\nDeze cursus heeft een praktisch en interactief karakter. Heb je vragen over de voorstellen\, de doorwerking ervan of de gevolgen voor jouw cliënten? Stel ze tijdens de training; Koen maakt in zijn programma graag ruimte voor praktijkvragen en actuele casuïstiek. \nSpreker\nKoen Sars MSc is fiscalist en heeft ruime ervaring in de fiscale adviespraktijk. Hij is onder andere verbonden aan Fiscount en verzorgt regelmatig cursussen en trainingen over fiscale actualiteiten. Koen staat bekend om zijn heldere uitleg\, praktijkgerichte benadering en oog voor de gevolgen van wetgeving voor ondernemers en adviseurs. \nLocatie: Postillion Hotel Amersfoort Veluwemeer\, Strandboulevard 3\, Putten \nUiterlijke inschrijfdatum: 17 september 2026 \nKosten: € 290\,- voor geregistreerden en aspirant-geregistreerden. \nMaximum aantal inschrijvingen: 40 \nAantal PE punten: 5 \nLog eerst via Mijn SRFA in om aan te kunnen melden voor deze updatesessie. \n*Door je in te schrijven geef je toestemming dat je gegevens gedeeld worden met de organiserende partij. \n**Bij onvoldoende aanmeldingen behouden wij het recht om de updatesessie te annuleren. Uiteraard word je hiervan tijdig geïnformeerd.
URL:https://www.srfa.nl/agenda/updatesessie-update-prinsjesdag-koen-sars-1-oktober-2026-5-pe-punten-fysiek/
LOCATION:Postillion hotel Amersfoort Veluwemeer\, Strandboulevard 3\, Putten\, 3882 RN
ATTACH;FMTTYPE=image/jpeg:https://www.srfa.nl/wp-content/uploads/2026/01/Koen-Sars-Fiscount-e1768300787961.jpg
END:VEVENT
BEGIN:VEVENT
DTSTART;TZID=Europe/Amsterdam:20261008T130000
DTEND;TZID=Europe/Amsterdam:20261008T180000
DTSTAMP:20260421T215334
CREATED:20251224T144850Z
LAST-MODIFIED:20260121T130945Z
UID:23701-1791464400-1791482400@www.srfa.nl
SUMMARY:Updatesessie: Datavisualisatie en presentatie | Sirous Kavehercy | 8 oktober 2026 | 5 PE-punten – Fysiek
DESCRIPTION:In een tijd waarin data een steeds grotere rol speelt in besluitvorming\, is het essentieel dat professionals niet alleen data kunnen analyseren\, maar deze ook effectief kunnen presenteren. De PE-updatesessie ‘Datavisualisatie en Presentatie’ biedt deelnemers praktische handvatten om data visueel krachtig en overtuigend over te brengen. Deze sessie sluit aan op actuele ontwikkelingen in het vakgebied en is gebaseerd op best practices zoals toegepast in tools als Power BI. \nDoelgroep\nDeze sessie is bedoeld voor professionals uit alle SRFA-registers die in hun werk te maken hebben met het analyseren\, visualiseren en presenteren van data. Zowel financieel adviseurs\, zorgadministrateurs als projectmanagers kunnen hun vaardigheden op dit vlak versterken. \nProgramma\n• Introductie: het belang van visuele communicatie\n• Principes van effectieve datavisualisatie\n• Storytelling met data: hoe vertel je een overtuigend verhaal?\n• Gebruik van Power BI en andere tools\n• Best practices voor het presenteren van dashboards en grafieken\n• Interactieve oefeningen en casussen\n• Netwerkmoment en reflectie \nResultaat\nNa afloop van de sessie hebben deelnemers inzicht in de principes van effectieve Datavisualisatie en storytelling met data. Ze kunnen grafieken en dashboards kritisch beoordelen en zelf presenteren op een manier die aansluit bij hun doelgroep. \nSpreker\nSirous Kavehercy Is een internationaal spreker en trainer met meer dan 30 jaar ervaring in technologie\, digitalisering en interculturele communicatie. Als pionier in Artificial Intelligence en oprichter van Tripylon Media heeft hij organisaties wereldwijd begeleid bij digitale transformatie en verandermanagement. Zijn presentaties zijn energiek\, persoonlijk en rijk aan praktijkvoorbeelden — van AI en ethiek tot leiderschap en communicatie in multiculturele teams. Sirous weet complexe technologische ontwikkelingen toegankelijk te maken en inspireert professionals om technologie strategisch en verantwoord in te zetten. \nLocatie: Kloosterhoeve\, Hamelen (zaal: Ridderzaal) \nUiterlijke inschrijfdatum: 24 september 2026 \nKosten: € 290\,- voor geregistreerden en aspirant-geregistreerden. \nMaximum aantal inschrijvingen: 40 \nAantal PE punten: 5 \nLog eerst via Mijn SRFA in om aan te kunnen melden voor deze updatesessie. \n*Door je in te schrijven geef je toestemming dat je gegevens gedeeld worden met de organiserende partij. \n**Bij onvoldoende aanmeldingen behouden wij het recht om de updatesessie te annuleren. Uiteraard word je hiervan tijdig geïnformeerd.
URL:https://www.srfa.nl/agenda/updatesessie-datavisualisatie-en-presentatie-sirous-kavehercy-8-oktober-2026-5-pe-punten-fysiek/
LOCATION:Kloosterhoeve\, Kloosterweg 2\, Harmelen\, 3481 XC
ATTACH;FMTTYPE=image/jpeg:https://www.srfa.nl/wp-content/uploads/2026/01/Sirous-Kavehercy-2-e1768295409553.jpg
END:VEVENT
BEGIN:VEVENT
DTSTART;TZID=Europe/Amsterdam:20261021T130000
DTEND;TZID=Europe/Amsterdam:20261021T180000
DTSTAMP:20260421T215334
CREATED:20251230T151609Z
LAST-MODIFIED:20260114T105507Z
UID:23710-1792587600-1792605600@www.srfa.nl
SUMMARY:Updatesessie: Belastingplan 2027 | Martin de Vries | 21 oktober 2026 | 5 PE-punten – Fysiek
DESCRIPTION:Tijdens deze updatesessie worden de belastingwijzigingen voor 2027 doorgenomen aan de hand van duidelijke praktijkvoorbeelden. \nDoelgroep\nFinancieel en fiscaal professionals \nSpreker\nMartin de Vries heeft 20 jaar fiscale ervaring: hij kent de adviespraktijk vanuit kleine en grote kantoren en als zelfstandig ondernemer. Een allrounder dus! Martin vindt het fijn om in een team te werken: “samen weten we meer”. Die rol sluit mooi aan bij het fiscale team van Auxilium. \nLocatie: Auxilium Adviesgroep\, Philipsstraat 3\, 3833 LC Leusden \nUiterlijke inschrijfdatum: 7 oktober 2026 \nKosten: € 290\,- voor geregistreerden en aspirant-geregistreerden. \nMaximum aantal inschrijvingen: 40 \nAantal PE punten: 5 \nLog eerst via Mijn SRFA in om aan te kunnen melden voor deze updatesessie. \n*Door je in te schrijven geef je toestemming dat je gegevens gedeeld worden met de organiserende partij. \n**Bij onvoldoende aanmeldingen behouden wij het recht om de updatesessie te annuleren. Uiteraard word je hiervan tijdig geïnformeerd.
URL:https://www.srfa.nl/agenda/updatesessie-belastingplan-2027-martin-de-vries-21-oktober-2026-5-pe-punten-fysiek/
LOCATION:Leusden\, Auxilium Adviesgroep B.V.\, Philipsstraat 3\, Leusden\, 3833 LC
ATTACH;FMTTYPE=image/jpeg:https://www.srfa.nl/wp-content/uploads/2025/12/Martin-de-Vries-Auxilium-e1766500219168.jpg
END:VEVENT
BEGIN:VEVENT
DTSTART;TZID=Europe/Amsterdam:20261022T100000
DTEND;TZID=Europe/Amsterdam:20261022T120000
DTSTAMP:20260421T215334
CREATED:20251231T083947Z
LAST-MODIFIED:20260113T091058Z
UID:23716-1792663200-1792670400@www.srfa.nl
SUMMARY:Updatesessie: Business Intelligence - analyse en prognose | Sirous Kavehercy | 22 oktober 2026 | 2 PE-punten – Online
DESCRIPTION:In een datagedreven wereld is het vermogen om data te analyseren en te vertalen naar heldere inzichten essentieel voor iedere finance professional. De online PE updatesessie ‘Business Intelligence – Analyse en Prognose’ biedt deelnemers praktische handvatten om met behulp van moderne BI-tools\, zoals Power BI\, data om te zetten in waardevolle stuurinformatie. De sessie richt zich op het versterken van analytisch vermogen en het effectief communiceren van inzichten via dashboards en rapportages. \nDoelgroep\nDeze sessie is bedoeld voor Finance professionals\, controllers\, business analisten en andere professionals binnen het SRFA-netwerk die hun kennis en vaardigheden op het gebied van data-analyse\, prognoses en business intelligence willen versterken. \nProgramma\n• Introductie Business Intelligence en datagedreven werken\n• Overzicht van BI-tools met focus op Power BI\n• Analyseren van financiële data en het herkennen van trends\n• Opstellen van prognoses en scenario-analyses\n• Datavisualisatie: best practices voor dashboards en rapportages\n• Toepassing in de praktijk: casus en interactieve bespreking \nResultaat\nNa afloop van deze sessie hebben deelnemers inzicht in de mogelijkheden van Business Intelligence binnen hun vakgebied. Zij kunnen data analyseren\, trends herkennen en prognoses opstellen. Daarnaast zijn zij in staat om inzichten visueel te presenteren via dashboards\, waarmee zij effectiever kunnen communiceren en adviseren binnen hun organisatie. \nSpreker\nSirous Kavehercy Is een internationaal spreker en trainer met meer dan 30 jaar ervaring in technologie\, digitalisering en interculturele communicatie. Als pionier in Artificial Intelligence en oprichter van Tripylon Media heeft hij organisaties wereldwijd begeleid bij digitale transformatie en verandermanagement. Zijn presentaties zijn energiek\, persoonlijk en rijk aan praktijkvoorbeelden — van AI en ethiek tot leiderschap en communicatie in multiculturele teams. Sirous weet complexe technologische ontwikkelingen toegankelijk te maken en inspireert professionals om technologie strategisch en verantwoord in te zetten. \nUiterlijke inschrijfdatum: 8 oktober 2026 \nKosten: gratis \nAantal PE punten: 2 \nLog eerst via Mijn SRFA in om aan te kunnen melden voor deze updatesessie. \n*Door je in te schrijven geef je toestemming dat je gegevens gedeeld worden met de organiserende partij. \n**Bij onvoldoende aanmeldingen behouden wij het recht om de updatesessie te annuleren. Uiteraard word je hiervan tijdig geïnformeerd.
URL:https://www.srfa.nl/agenda/updatesessie-business-intelligence-analyse-en-prognose-sirous-kavehercy-22-oktober-2026-2-pe-punten-online/
LOCATION:Online
ATTACH;FMTTYPE=image/jpeg:https://www.srfa.nl/wp-content/uploads/2026/01/Sirous-Kavehercy-2-e1768295409553.jpg
END:VEVENT
END:VCALENDAR