BEGIN:VCALENDAR
VERSION:2.0
PRODID:-//Stichting Register Fiscaal &amp; Financieel Advies - ECPv6.15.20//NONSGML v1.0//EN
CALSCALE:GREGORIAN
METHOD:PUBLISH
X-ORIGINAL-URL:https://www.srfa.nl
X-WR-CALDESC:Evenementen voor Stichting Register Fiscaal &amp; Financieel Advies
REFRESH-INTERVAL;VALUE=DURATION:PT1H
X-Robots-Tag:noindex
X-PUBLISHED-TTL:PT1H
BEGIN:VTIMEZONE
TZID:Europe/Amsterdam
BEGIN:DAYLIGHT
TZOFFSETFROM:+0100
TZOFFSETTO:+0200
TZNAME:CEST
DTSTART:20250330T010000
END:DAYLIGHT
BEGIN:STANDARD
TZOFFSETFROM:+0200
TZOFFSETTO:+0100
TZNAME:CET
DTSTART:20251026T010000
END:STANDARD
BEGIN:DAYLIGHT
TZOFFSETFROM:+0100
TZOFFSETTO:+0200
TZNAME:CEST
DTSTART:20260329T010000
END:DAYLIGHT
BEGIN:STANDARD
TZOFFSETFROM:+0200
TZOFFSETTO:+0100
TZNAME:CET
DTSTART:20261025T010000
END:STANDARD
BEGIN:DAYLIGHT
TZOFFSETFROM:+0100
TZOFFSETTO:+0200
TZNAME:CEST
DTSTART:20270328T010000
END:DAYLIGHT
BEGIN:STANDARD
TZOFFSETFROM:+0200
TZOFFSETTO:+0100
TZNAME:CET
DTSTART:20271031T010000
END:STANDARD
END:VTIMEZONE
BEGIN:VEVENT
DTSTART;TZID=Europe/Amsterdam:20260902T130000
DTEND;TZID=Europe/Amsterdam:20260902T180000
DTSTAMP:20260421T215601
CREATED:20251224T122311Z
LAST-MODIFIED:20260121T131057Z
UID:23685-1788354000-1788372000@www.srfa.nl
SUMMARY:Updatesessie: Effectief projectmanagement | Paul Bomers | 2 september 2026 | 5 PE-punten – Fysiek
DESCRIPTION:De PE-updatesessie ‘Effectief Projectmanagement’ biedt professionals binnen het SRFA netwerk praktische handvatten om projecten succesvol te initiëren\, plannen\, uitvoeren en afronden. De sessie richt zich op het versterken van projectvaardigheden die essentieel zijn in een dynamische werkomgeving\, met aandacht voor communicatie\, leiderschap en risicobeheersing. \nDoelgroep\nDeze sessie is bedoeld voor professionals uit alle SRFA-registers die betrokken zijn bij projectmatig werken\, zoals financieel adviseurs\, zorgadministrateurs\, fiscalisten en beleidsmedewerkers. Zowel beginnende als ervaren projectleiders kunnen hun kennis verdiepen en vaardigheden aanscherpen. \nProgramma\n• Introductie en doelstellingen van projectmanagement\n• Projectfasering: van initiatief tot oplevering\n• Stakeholdermanagement en communicatie\n• Risicoanalyse en beheersmaatregelen\n• Leiderschap en teamdynamiek\n• Praktijkcasussen en reflectie\n• Netwerkmoment met deelnemers \nResultaat\nDeelnemers krijgen inzicht in de belangrijkste succesfactoren van projectmanagement en leren hoe zij projecten effectief kunnen structureren en aansturen. Na afloop zijn zij beter in staat om projectdoelen te realiseren\, risico’s te beheersen en stakeholders effectief te betrekken. De sessie levert 5 PE-punten op. \nSpreker\nPaul Bomers is een ervaren trainer en adviseur met meer dan 35 jaar ervaring en een sterke achtergrond in o.a. Agile\, Scrum\, SAFe\, Project- en Programma-management. Hij staat bekend om zijn praktijkgerichte aanpak en het vermogen om complexe materie toegankelijk te maken. Hij stimuleert interactie en kennisdeling en biedt toepasbare inzichten. Paul heeft gewerkt met diverse organisaties\, waaronder ministeries\, bedrijven en gemeenten\, om effectieve en gestructureerde veranderingen te implementeren. \nLocatie: Restaurant Zuiver\, Utrecht (zaal: Zuiver) \nUiterlijke inschrijfdatum: 19 augustus 2026 \nKosten: € 290\,- voor geregistreerden en aspirant-geregistreerden. \nMaximum aantal inschrijvingen: 40 \nAantal PE punten: 5 \nLog eerst via Mijn SRFA in om aan te kunnen melden voor deze updatesessie. \n*Door je in te schrijven geef je toestemming dat je gegevens gedeeld worden met de organiserende partij. \n**Bij onvoldoende aanmeldingen behouden wij het recht om de updatesessie te annuleren. Uiteraard word je hiervan tijdig geïnformeerd.
URL:https://www.srfa.nl/agenda/updatesessie-effectief-projectmanagement-paul-bomers-2-september-2026-5-pe-punten-fysiek/
LOCATION:Restaurant Zuiver\, Utrecht\, Krommewetering 51\, Utrecht\, Netherlands
ATTACH;FMTTYPE=image/jpeg:https://www.srfa.nl/wp-content/uploads/2025/12/Paul-Bomers-MVP-e1766578874757.jpg
END:VEVENT
BEGIN:VEVENT
DTSTART;TZID=Europe/Amsterdam:20260915T130000
DTEND;TZID=Europe/Amsterdam:20260915T180000
DTSTAMP:20260421T215602
CREATED:20260113T101546Z
LAST-MODIFIED:20260114T105721Z
UID:23750-1789477200-1789495200@www.srfa.nl
SUMMARY:Updatesessie: Update Box 3 | Mariëtte Rodenburg | 15 september 2026 | 5 PE-punten – Fysiek
DESCRIPTION:Box 3 – actuele stand van zaken\nDe ontwikkelingen rondom box 3 blijven in beweging en hebben grote impact op de adviespraktijk. De overgang naar een heffing op basis van werkelijk rendement\, de uitwerking van overgangsrecht en lopende procedures zorgen voor blijvende vragen bij cliënten met vermogen. Het is daarom belangrijk om goed zicht te houden op de actuele stand van zaken en de gevolgen voor de praktijk. \nTijdens deze cursus neemt Mariëtte Rodenburg je mee langs de belangrijkste ontwikkelingen en aandachtspunten rondom box 3. De nadruk ligt daarbij op de inhoudelijke duiding en praktische toepassing\, zodat je cliënten ook richting het nieuwe jaar goed onderbouwd kunt adviseren. \nAan de hand van herkenbare praktijksituaties bespreekt zij in ieder geval: \n\nde actuele stand van zaken rondom box 3\nde toepassing van werkelijk rendement en relevante aandachtspunten\ngevolgen voor verschillende vermogenscategorieën\novergangsrecht en lopende procedures\nkansen en risico’s voor de adviespraktijk\n\nDeze cursus heeft een inhoudelijk en interactief karakter. Heb je vragen over complexe cliëntsituaties\, interpretatie van regelgeving of de praktische uitwerking daarvan? Stel ze tijdens de training; Mariet maakt in haar programma graag ruimte voor verdieping en actuele casuïstiek. \nSpreker\nmr. Mariëtte Rodenburg RB is fiscalist en werkzaam bij Fiscount. Zij is gespecialiseerd in Box 3 en verzorgt regelmatig fiscale trainingen en cursussen. Mariëtte staat bekend om haar heldere uitleg\, inhoudelijke diepgang en praktische vertaalslag naar de adviespraktijk. \nLocatie: Postillion Hotel Amersfoort Veluwemeer\, Strandboulevard 3\, Putten \nUiterlijke inschrijfdatum: 1 september 2026 \nKosten: € 290\,- voor geregistreerden en aspirant-geregistreerden. \nMaximum aantal inschrijvingen: 40 \nAantal PE punten: 5 \nLog eerst via Mijn SRFA in om aan te kunnen melden voor deze updatesessie. \n*Door je in te schrijven geef je toestemming dat je gegevens gedeeld worden met de organiserende partij. \n**Bij onvoldoende aanmeldingen behouden wij het recht om de updatesessie te annuleren. Uiteraard word je hiervan tijdig geïnformeerd.
URL:https://www.srfa.nl/agenda/updatesessie-update-box-3-mariette-rodenburg-15-september-2026-5-pe-punten-fysiek/
LOCATION:Postillion hotel Amersfoort Veluwemeer\, Strandboulevard 3\, Putten\, 3882 RN
ATTACH;FMTTYPE=image/jpeg:https://www.srfa.nl/wp-content/uploads/2026/01/Mariette-Rodenburg-Fiscount-e1768299269741.jpg
END:VEVENT
BEGIN:VEVENT
DTSTART;TZID=Europe/Amsterdam:20260924T143000
DTEND;TZID=Europe/Amsterdam:20260924T163000
DTSTAMP:20260421T215602
CREATED:20251224T133943Z
LAST-MODIFIED:20251224T133943Z
UID:23692-1790260200-1790267400@www.srfa.nl
SUMMARY:Updatesessie: Jaarrekening | Robin van der Horst | 24 september 2026 | 2 PE-punten – Online
DESCRIPTION:In deze updatesessie praat Nextens je bij over de meest recente ontwikkelingen en actualiteiten op het gebied van de jaarrekening. Zo wordt er uitgebreid stilgestaan bij SBR. Hoe gebruik je dit optimaal en ga je compliant om met wijzigingen?  En hoe deponeer je bij de bank? \nDaarnaast wordt de laatste update van het Jaarrekeningprogramma van Nextens getoond. Hierin staan onder andere het maken van een jaarrekening voor organisaties zonder winststreven\, het nieuwe samensteldossier en werkprogramma centraal. \nDoelgroep\nDeze updatesessie is relevant voor iedereen die samenstelwerkzaamheden verricht of daarbij betrokken is. \nSpreker\nRobin van der Horst is productmanager bij Nextens en verantwoordelijk voor onder andere Nextens Jaarrekening. Op dit moment werkt hij samen met zijn team hard aan de lancering van Jaarrekening Pro\, dat geschikt is voor accountants. In de ontwikkeling van Jaarrekening Pro staan dossiervorming en een werkprogramma centraal. \nUiterlijke inschrijfdatum: 10 september 2026 \nKosten: gratis voor geregistreerden en aspirant-geregistreerden. \nAantal PE punten: 2 \nLog eerst via Mijn SRFA in om aan te kunnen melden voor deze updatesessie. \n*Door je in te schrijven geef je toestemming dat je gegevens gedeeld worden met de organiserende partij. \n**Bij onvoldoende aanmeldingen behouden wij het recht om de updatesessie te annuleren. Uiteraard word je hierover tijdig geïnformeerd.
URL:https://www.srfa.nl/agenda/updatesessie-jaarrekening-robin-van-der-horst-24-september-2026-2-pe-punten-online/
LOCATION:Online
ATTACH;FMTTYPE=image/jpeg:https://www.srfa.nl/wp-content/uploads/2025/12/Robin-van-der-Horst-Nextens-e1766583519633.jpg
END:VEVENT
END:VCALENDAR