BEGIN:VCALENDAR
VERSION:2.0
PRODID:-//Stichting Register Fiscaal &amp; Financieel Advies - ECPv6.15.20//NONSGML v1.0//EN
CALSCALE:GREGORIAN
METHOD:PUBLISH
X-ORIGINAL-URL:https://www.srfa.nl
X-WR-CALDESC:Evenementen voor Stichting Register Fiscaal &amp; Financieel Advies
REFRESH-INTERVAL;VALUE=DURATION:PT1H
X-Robots-Tag:noindex
X-PUBLISHED-TTL:PT1H
BEGIN:VTIMEZONE
TZID:Europe/Amsterdam
BEGIN:DAYLIGHT
TZOFFSETFROM:+0100
TZOFFSETTO:+0200
TZNAME:CEST
DTSTART:20250330T010000
END:DAYLIGHT
BEGIN:STANDARD
TZOFFSETFROM:+0200
TZOFFSETTO:+0100
TZNAME:CET
DTSTART:20251026T010000
END:STANDARD
BEGIN:DAYLIGHT
TZOFFSETFROM:+0100
TZOFFSETTO:+0200
TZNAME:CEST
DTSTART:20260329T010000
END:DAYLIGHT
BEGIN:STANDARD
TZOFFSETFROM:+0200
TZOFFSETTO:+0100
TZNAME:CET
DTSTART:20261025T010000
END:STANDARD
BEGIN:DAYLIGHT
TZOFFSETFROM:+0100
TZOFFSETTO:+0200
TZNAME:CEST
DTSTART:20270328T010000
END:DAYLIGHT
BEGIN:STANDARD
TZOFFSETFROM:+0200
TZOFFSETTO:+0100
TZNAME:CET
DTSTART:20271031T010000
END:STANDARD
END:VTIMEZONE
BEGIN:VEVENT
DTSTART;TZID=Europe/Amsterdam:20260519T133000
DTEND;TZID=Europe/Amsterdam:20260519T153000
DTSTAMP:20260421T155934
CREATED:20251223T162634Z
LAST-MODIFIED:20260403T091656Z
UID:23648-1779197400-1779204600@www.srfa.nl
SUMMARY:Updatesessie: Update VPB | Barry Nijkamp | 19 mei 2026 | 2 PE-punten – Online
DESCRIPTION:Praktijkgerichte cursus over de VPB \nInhoud\nIn deze cursus nemen we je mee langs een aantal belangrijke onderwerpen die je helpen om een juiste en goed onderbouwde aangifte vennootschapsbelasting op te stellen. Aan de hand van de aangifte vennootschapsbelasting komen adviespunten naar voren die je direct kunt gebruiken bij je klanten. \n\nVoorloopvragen in de VPB-aangifte – Wat houden ze precies in en welke zijn (on)relevant voor mkb-klanten?\nDe toepassing van de herinvesteringsreserve (HIR) – Hoe werkt het en waar moet je op letten?\nVeelgemaakte fouten en aandachtspunten met praktijkvoorbeelden over:\n– Afschrijving panden en de rol van verbonden personen\n– Rente rekening-courant en de €17.500-grens\n– Beperkt aftrekbare kosten\, zoals hotelovernachtingen bij seminars\n– (On)zakelijke leningen: afwaarderen\, kwijtschelden en vrijstellingen\n– Correcties naar zakelijkheid en de impact op de aangifte\n– Transfer pricing binnen Nederland – wat mag wel en niet?\n\nDoelgroep\nVoor iedereen die vennootschapsbelastingaangiften opstelt of verwerkt. \nSpreker\nBarry Nijkamp heeft ruim 30 jaar ervaring in de internationale belastingadviespraktijk. Daarbij ligt de nadruk niet op de bijzondere internationale structuren\, maar gewoon hands-on. Simpel\, duidelijk en praktisch! Barry heeft nu een eigen adviespraktijk en is daarnaast docent bij de opleiding Praktijkdiploma Belastingrecht en bij Nyenrode Business Universiteit. \nUiterlijke inschrijfdatum: 5 mei 2026 \nKosten: gratis voor geregistreerden en aspirant-geregistreerden. \nAantal PE punten: 2 \nLog eerst via Mijn SRFA in om aan te kunnen melden voor deze updatesessie. \n*Door je in te schrijven geef je toestemming dat je gegevens gedeeld worden met de organiserende partij. \n**Bij onvoldoende aanmeldingen behouden wij het recht om de updatesessie te annuleren. Uiteraard word je hierover tijdig geïnformeerd.
URL:https://www.srfa.nl/agenda/updatesessie-update-vpb-barry-nijkamp-19-mei-2026-2-pe-punten-online/
LOCATION:Online
ATTACH;FMTTYPE=image/jpeg:https://www.srfa.nl/wp-content/uploads/2025/12/Barry-Nijkamp-Auxilium-e1766507263663.jpg
END:VEVENT
END:VCALENDAR