BEGIN:VCALENDAR
VERSION:2.0
PRODID:-//Stichting Register Fiscaal &amp; Financieel Advies - ECPv6.15.20//NONSGML v1.0//EN
CALSCALE:GREGORIAN
METHOD:PUBLISH
X-WR-CALNAME:Stichting Register Fiscaal &amp; Financieel Advies
X-ORIGINAL-URL:https://www.srfa.nl
X-WR-CALDESC:Evenementen voor Stichting Register Fiscaal &amp; Financieel Advies
REFRESH-INTERVAL;VALUE=DURATION:PT1H
X-Robots-Tag:noindex
X-PUBLISHED-TTL:PT1H
BEGIN:VTIMEZONE
TZID:Europe/Amsterdam
BEGIN:DAYLIGHT
TZOFFSETFROM:+0100
TZOFFSETTO:+0200
TZNAME:CEST
DTSTART:20240331T010000
END:DAYLIGHT
BEGIN:STANDARD
TZOFFSETFROM:+0200
TZOFFSETTO:+0100
TZNAME:CET
DTSTART:20241027T010000
END:STANDARD
BEGIN:DAYLIGHT
TZOFFSETFROM:+0100
TZOFFSETTO:+0200
TZNAME:CEST
DTSTART:20250330T010000
END:DAYLIGHT
BEGIN:STANDARD
TZOFFSETFROM:+0200
TZOFFSETTO:+0100
TZNAME:CET
DTSTART:20251026T010000
END:STANDARD
BEGIN:DAYLIGHT
TZOFFSETFROM:+0100
TZOFFSETTO:+0200
TZNAME:CEST
DTSTART:20260329T010000
END:DAYLIGHT
BEGIN:STANDARD
TZOFFSETFROM:+0200
TZOFFSETTO:+0100
TZNAME:CET
DTSTART:20261025T010000
END:STANDARD
END:VTIMEZONE
BEGIN:VEVENT
DTSTART;TZID=Europe/Amsterdam:20251008T100000
DTEND;TZID=Europe/Amsterdam:20251008T120000
DTSTAMP:20260421T233045
CREATED:20241230T114914Z
LAST-MODIFIED:20250519T071819Z
UID:22906-1759917600-1759924800@www.srfa.nl
SUMMARY:- VOL - Updatesessie: Update Prinsjesdag  |  Heleen Elbert | 8 Oktober 2025 | 2 (PE-punten) - Online
DESCRIPTION:De updatesessie is vol – schrijf je in voor de volgende!\nDeze SRFA-updatesessie is helemaal volgeboekt. Goed nieuws: je kunt je nu inschrijven voor de eerstvolgende mogelijkheid! \nPrinsjesdag is een belangrijke dag in het Nederlandse parlementaire jaar\, waarop de regering haar plannen en begroting\nvoor het komende jaar presenteert. Tijdens deze sessie zullen we de belangrijkste punten uit de Troonrede en de\nMiljoenennota bespreken\, en wat deze betekenen voor ons en onze sector. \nProgramma\n• Samenvatting van de Troonrede\n• Analyse van de Miljoenennota\n• Sectorale Impact en Discussie\n• Toekomstige Vooruitzichten en Strategieën\n• Overige actualiteiten n.a.v. Prinsjesdag \nKorte bio Heleen Elbert\nHeleen Elbert is een vooraanstaand fiscaal jurist en oud-belastinginspecteur met een indrukwekkende carrière in de\nfiscale wereld. Als belastingadviseur bij ELBERT FISCAAL biedt zij haar klanten diepgaande kennis en praktische\noplossingen voor complexe fiscale vraagstukken. Heleen is niet alleen een expert op het gebied van autobelastingen\,\nmaar heeft ook een brede fiscale expertise die ondernemers ondersteunt bij estate planning\, firmaproblematiek in het\nmkb en echtscheiding.\nNaast haar advieswerkzaamheden is Heleen een gewaardeerd auteur\, verbonden aan onder andere het Nederlands\nTijdschrift voor Fiscaal Recht\, de fiscale encyclopedie Nederlandse Documentatie Fiscaal Recht en het tijdschrift\nBelastingzaken. Haar boeken\, zoals ‘De auto\, zakelijk en privé’ en ‘Parkeerbon? Nee dank u!’\, zijn toonaangevend in het\nvakgebied.\nHeleen deelt haar kennis en ervaring regelmatig door het geven van lezingen en trainingen\, waarbij zij complexe fiscale\nonderwerpen toegankelijk en begrijpelijk maakt voor haar publiek. Haar passie voor het vak en haar vermogen om\ningewikkelde materie helder uit te leggen\, maken haar een inspirerende en invloedrijke spreker. \nUiterlijke inschrijfdatum: 24-09-2025 \nKosten: € 0\,- voor geregistreerden en aspirant-geregistreerden. \nAantal PE punten: 2 \nAanmelden \n\n  \n*Door u in te schrijven geeft u toestemming dat uw gegevens gedeeld worden met de organiserende partij. \n**Bij onvoldoende aanmeldingen behouden wij het recht om de updatesessie te annuleren. Uiteraard wordt u hiervan tijdig geïnformeerd
URL:https://www.srfa.nl/agenda/updatesessie-update-prinsjesdag-heleen-elbert-8-oktober-2025-2-pe-punten-online/
LOCATION:Online
ATTACH;FMTTYPE=image/jpeg:https://www.srfa.nl/wp-content/uploads/2024/12/Heleen-Elbert-002.jpg
END:VEVENT
BEGIN:VEVENT
DTSTART;TZID=Europe/Amsterdam:20251014T100000
DTEND;TZID=Europe/Amsterdam:20251014T150000
DTSTAMP:20260421T233045
CREATED:20250227T095634Z
LAST-MODIFIED:20250821T081939Z
UID:23029-1760436000-1760454000@www.srfa.nl
SUMMARY:Updatesessie: Financieel management zorg |  Kees Hummelen | 14 oktober 2025 | 5 (PE-punten) - Fysiek
DESCRIPTION:Financieel management in de zorg \nZorginstellingen staan voor enorme uitdagingen. Tarieven die onder druk staan. Personeelskosten die fors stijgen net als facilitaire kosten (huisvesting\, voeding etc.)\nDaarnaast worden zorginstellingen geconfronteerd met een toenemende krapte op de arbeidsmarkt.\nIn de update sessie zal aandacht geschonken worden aan de financiële effecten van deze uitdagingen. Besproken zal worden hoe gedegen managementinformatie kan bijdragen aan het effectief beheren van de kosten en uitdagingen. Ook zal ingegaan worden op praktische tips en strategieën om deze informatie vorm te geven en te gebruiken voor betere besluitvorming. \nSpreker: Kees Hummelen\nLocatie: Consortium beroepsonderwijs Amersfoort\nUiterlijke inschrijfdatum: 01-10-2025\nKosten: € 275- voor geregistreerden en aspirant-geregistreerden. \nMaximum aantal inschrijvingen: 50 (VOL = VOL) \nAantal PE punten: 5 \n\n*Door u in te schrijven geeft u toestemming dat uw gegevens gedeeld worden met de organiserende partij. \n**Bij onvoldoende aanmeldingen behouden wij het recht om de updatesessie te annuleren. Uiteraard wordt u hierover tijdig geïnformeerd.
URL:https://www.srfa.nl/agenda/updatesessie-financieel-management-kees-hummel-14-oktober-2025-5-pe-punten-fysiek/
LOCATION:KEI Experts in de Zorg\, Krommestoep 1E\, Sliedrecht\, 3361 CH
ATTACH;FMTTYPE=image/jpeg:https://www.srfa.nl/wp-content/uploads/2025/02/Kees-Hummelen-002.jpg
END:VEVENT
END:VCALENDAR