BEGIN:VCALENDAR
VERSION:2.0
PRODID:-//Stichting Register Fiscaal &amp; Financieel Advies - ECPv6.15.20//NONSGML v1.0//EN
CALSCALE:GREGORIAN
METHOD:PUBLISH
X-ORIGINAL-URL:https://www.srfa.nl
X-WR-CALDESC:Evenementen voor Stichting Register Fiscaal &amp; Financieel Advies
REFRESH-INTERVAL;VALUE=DURATION:PT1H
X-Robots-Tag:noindex
X-PUBLISHED-TTL:PT1H
BEGIN:VTIMEZONE
TZID:Europe/Amsterdam
BEGIN:DAYLIGHT
TZOFFSETFROM:+0100
TZOFFSETTO:+0200
TZNAME:CEST
DTSTART:20240331T010000
END:DAYLIGHT
BEGIN:STANDARD
TZOFFSETFROM:+0200
TZOFFSETTO:+0100
TZNAME:CET
DTSTART:20241027T010000
END:STANDARD
BEGIN:DAYLIGHT
TZOFFSETFROM:+0100
TZOFFSETTO:+0200
TZNAME:CEST
DTSTART:20250330T010000
END:DAYLIGHT
BEGIN:STANDARD
TZOFFSETFROM:+0200
TZOFFSETTO:+0100
TZNAME:CET
DTSTART:20251026T010000
END:STANDARD
BEGIN:DAYLIGHT
TZOFFSETFROM:+0100
TZOFFSETTO:+0200
TZNAME:CEST
DTSTART:20260329T010000
END:DAYLIGHT
BEGIN:STANDARD
TZOFFSETFROM:+0200
TZOFFSETTO:+0100
TZNAME:CET
DTSTART:20261025T010000
END:STANDARD
END:VTIMEZONE
BEGIN:VEVENT
DTSTART;TZID=Europe/Amsterdam:20250924T130000
DTEND;TZID=Europe/Amsterdam:20250924T180000
DTSTAMP:20260422T005643
CREATED:20241230T112225Z
LAST-MODIFIED:20250909T062523Z
UID:22900-1758718800-1758736800@www.srfa.nl
SUMMARY:VOL Updatesessie: Timemanagement  | Boudewijn Krijger | 24 September 2025 | 5 (PE-punten) - Fysiek
DESCRIPTION:In de financiële sector is het effectief beheren van tijd essentieel om productief te blijven en een gezonde werk-privébalans te behouden. Deze training is speciaal ontworpen om financials te helpen hun tijd efficiënter te beheren\,\nprioriteiten te stellen en stress te verminderen. Onze ervaren trainers zullen u begeleiden door diverse time-managementtechnieken en u voorzien van praktische tools om uw dagelijkse werkzaamheden beter te organiseren. \nProgramma\n• Basisprincipes van Timemanagement\n• Timemanagement in de Financiële Context\n• Tijdsanalyse\n• Prioriteiten stellen\n• Interpersoonlijke Communicatie en Timemanagement\n• Praktische Oefeningen en Rollenspellen \nSpreker: Boudewijn Krijger\nLocatie: Omgeving Utrecht\nUiterlijke inschrijfdatum: 10-09-2025\nKosten: € 275- voor geregistreerden en aspirant-geregistreerden. \nKorte bio Boudewijn Krijger\nBoudewijn is een senior trainer en ondernemer met een passie voor professionele effectiviteit en persoonlijke groei.\nSinds 2004 werkt hij zelfstandig als trainer in gedrag en vaardigheden voor zowel profit- als non-profitorganisaties.\nBoudewijn heeft een achtergrond in diverse managementrollen en richt zich op het in beweging brengen van mensen\,\ngroepen en organisaties door middel van duidelijke communicatie\, lef en plezier.\nMet zijn bedrijf Gradior helpt Boudewijn mensen om hun intrinsieke motivatie te ontdekken en te benutten\, gebaseerd\nop de drie basisbehoeften: autonomie\, competentie en verbondenheid. Zijn trainingen en coaching zijn gericht op\nbewuste besluitvorming\, doeltreffende communicatie\, optimale samenwerking en effectieve klantgerichtheid.\nBoudewijn werkt onder andere voor organisaties zoals Ahold\, ING\, Univé\, Nationale Nederlanden en de Provincie Zuid-Holland. Zijn motto\, “Wie zichzelf overwint is machtig\,” weerspiegelt zijn geloof in de kracht van persoonlijke\nontwikkeling en verandering. Boudewijn’s unieke aanpak en inspirerende visie maken hem een gewaardeerde en\ninvloedrijke spreker. \nMaximum aantal inschrijvingen: 20 (VOL = VOL) \nAantal PE punten: 5 \n\n  \n*Door u in te schrijven geeft u toestemming dat uw gegevens gedeeld worden met de organiserende partij. \n**Bij onvoldoende aanmeldingen behouden wij het recht om de updatesessie te annuleren. Uiteraard wordt u hiervan tijdig geïnformeerd
URL:https://www.srfa.nl/agenda/updatesessie-timemanagement-boudewijn-krijger-24-september-2025-5-pe-punten-fysiek/
LOCATION:Landgoed Zonheuvel\, Amersfoortseweg 98\, Doorn\, 3941 EP
ATTACH;FMTTYPE=image/jpeg:https://www.srfa.nl/wp-content/uploads/2024/12/Boudewijn-Krijger-002.jpg
END:VEVENT
END:VCALENDAR