BEGIN:VCALENDAR
VERSION:2.0
PRODID:-//Stichting Register Fiscaal &amp; Financieel Advies - ECPv6.15.20//NONSGML v1.0//EN
CALSCALE:GREGORIAN
METHOD:PUBLISH
X-ORIGINAL-URL:https://www.srfa.nl
X-WR-CALDESC:Evenementen voor Stichting Register Fiscaal &amp; Financieel Advies
REFRESH-INTERVAL;VALUE=DURATION:PT1H
X-Robots-Tag:noindex
X-PUBLISHED-TTL:PT1H
BEGIN:VTIMEZONE
TZID:Europe/Amsterdam
BEGIN:DAYLIGHT
TZOFFSETFROM:+0100
TZOFFSETTO:+0200
TZNAME:CEST
DTSTART:20240331T010000
END:DAYLIGHT
BEGIN:STANDARD
TZOFFSETFROM:+0200
TZOFFSETTO:+0100
TZNAME:CET
DTSTART:20241027T010000
END:STANDARD
BEGIN:DAYLIGHT
TZOFFSETFROM:+0100
TZOFFSETTO:+0200
TZNAME:CEST
DTSTART:20250330T010000
END:DAYLIGHT
BEGIN:STANDARD
TZOFFSETFROM:+0200
TZOFFSETTO:+0100
TZNAME:CET
DTSTART:20251026T010000
END:STANDARD
BEGIN:DAYLIGHT
TZOFFSETFROM:+0100
TZOFFSETTO:+0200
TZNAME:CEST
DTSTART:20260329T010000
END:DAYLIGHT
BEGIN:STANDARD
TZOFFSETFROM:+0200
TZOFFSETTO:+0100
TZNAME:CET
DTSTART:20261025T010000
END:STANDARD
END:VTIMEZONE
BEGIN:VEVENT
DTSTART;TZID=Europe/Amsterdam:20250826T100000
DTEND;TZID=Europe/Amsterdam:20250826T120000
DTSTAMP:20260422T021907
CREATED:20250723T115800Z
LAST-MODIFIED:20250821T080932Z
UID:23302-1756202400-1756209600@www.srfa.nl
SUMMARY:Themasessie: Tegenbewijsregeling Box 3 - de praktische toepassing | Auxilium Adviesgroep | 26 augustus 2025 | 2 PE-punten - Online
DESCRIPTION:De tegenbewijsregeling in box 3 is volop in ontwikkeling en roept veel vragen op bij belastingadviseurs. In dit webinar krijg je praktische uitleg over hoe je het werkelijk behaalde rendement voor jouw cliënten kunt onderbouwen\, wanneer tegenbewijs zinvol is en hoe je het formulier Opgaaf Werkelijk Rendement (OWR) gebruikt. Ook de gevolgen voor jouw adviespraktijk komen aan bod. \nHet webinar is bedoeld voor fiscalisten en financieel adviseurs die cliënten begeleiden bij aangiften of bezwaarprocedures waarbij box 3 een rol speelt.\nVerzorgd door Auxilium Adviesgroep. \nKosten: € 130\,- voor geregistreerden en aspirant-geregistreerden \nAantal PE punten: 2 \nAanmelden \nAanmelden kan rechtstreeks via de website van Auxilium via deze link. Er zijn meerdere data beschikbaar: 15\, 22\, 26 augustus en 3 september. \n*Door u in te schrijven geeft u toestemming dat uw gegevens gedeeld worden met de organiserende partij.
URL:https://www.srfa.nl/agenda/themasessie-tegenbewijsregeling-box-3-de-praktische-toepassing-auxilium-adviesgroep-15-augustus-2025-2-pe-punten-online/
LOCATION:Online
ATTACH;FMTTYPE=image/png:https://www.srfa.nl/wp-content/uploads/2025/04/auxilium-logo-540x250-RGB.png
END:VEVENT
END:VCALENDAR