BEGIN:VCALENDAR
VERSION:2.0
PRODID:-//Stichting Register Fiscaal &amp; Financieel Advies - ECPv6.15.20//NONSGML v1.0//EN
CALSCALE:GREGORIAN
METHOD:PUBLISH
X-WR-CALNAME:Stichting Register Fiscaal &amp; Financieel Advies
X-ORIGINAL-URL:https://www.srfa.nl
X-WR-CALDESC:Evenementen voor Stichting Register Fiscaal &amp; Financieel Advies
REFRESH-INTERVAL;VALUE=DURATION:PT1H
X-Robots-Tag:noindex
X-PUBLISHED-TTL:PT1H
BEGIN:VTIMEZONE
TZID:Europe/Amsterdam
BEGIN:DAYLIGHT
TZOFFSETFROM:+0100
TZOFFSETTO:+0200
TZNAME:CEST
DTSTART:20240331T010000
END:DAYLIGHT
BEGIN:STANDARD
TZOFFSETFROM:+0200
TZOFFSETTO:+0100
TZNAME:CET
DTSTART:20241027T010000
END:STANDARD
BEGIN:DAYLIGHT
TZOFFSETFROM:+0100
TZOFFSETTO:+0200
TZNAME:CEST
DTSTART:20250330T010000
END:DAYLIGHT
BEGIN:STANDARD
TZOFFSETFROM:+0200
TZOFFSETTO:+0100
TZNAME:CET
DTSTART:20251026T010000
END:STANDARD
BEGIN:DAYLIGHT
TZOFFSETFROM:+0100
TZOFFSETTO:+0200
TZNAME:CEST
DTSTART:20260329T010000
END:DAYLIGHT
BEGIN:STANDARD
TZOFFSETFROM:+0200
TZOFFSETTO:+0100
TZNAME:CET
DTSTART:20261025T010000
END:STANDARD
END:VTIMEZONE
BEGIN:VEVENT
DTSTART;TZID=Europe/Amsterdam:20250612T100000
DTEND;TZID=Europe/Amsterdam:20250612T120000
DTSTAMP:20260422T051739
CREATED:20241229T204607Z
LAST-MODIFIED:20250611T111808Z
UID:22885-1749722400-1749729600@www.srfa.nl
SUMMARY:-VOL- Updatesessie: Werkkostenregeling  |  Peter Hoogstraaten | 12 juni 2025 | 2 (PE-punten) - Online
DESCRIPTION:De updatesessie is vol – schrijf je in voor de volgende!\nDeze SRFA-updatesessie is helemaal volgeboekt. Goed nieuws: je kunt je nu inschrijven voor de eerstvolgende mogelijkheid! \nThema: Fiscale optimalisatie voor het MKBSpreker: Robin ReijnierseDatum: 12 juni 2025Locatie: Fysiek op locatiePE-punten: 2Aanmelden: www.srfa.nl/agenda \nDeze sessie biedt je waardevolle inzichten in fiscale strategieën speciaal voor MKB-adviseurs. Praktisch\, actueel en direct toepasbaar in je werk. \nWacht niet te lang – vol = vol!Schrijf je snel in via www.srfa.nl/agenda en verzeker jezelf van een plek. \nProgramma \nDe WKR biedt werkgevers de mogelijkheid om onbelaste vergoedingen en verstrekkingen aan werknemers te geven\, wat\nkan bijdragen aan een aantrekkelijker arbeidsvoorwaardenpakket. In 2024 zijn er enkele belangrijke wijzigingen in de\nWKR\, waaronder de aanpassing van de vrije ruimte percentages. Tijdens deze sessie zullen we u bijpraten over de\nnieuwste ontwikkelingen en u voorzien van praktische tips om de WKR optimaal te benutten binnen uw organisatie.\nOnze experts zullen u begeleiden door de complexe regelgeving en u helpen om de fiscale voordelen van de WKR te\nmaximaliseren. \n• WKR: Basisprincipes en Wijzigingen 2025\n• Optimalisatie van de WKR\n• Toepassing van de WKR in de Praktijk\n• Case Studies en Praktijkvoorbeelden. \nKorte bio Peter Hoogstraaten\nPeter is een vooraanstaand expert op het gebied van loonheffingen en fiscale economie. Na zijn studie fiscale economie\naan de Universiteit van Amsterdam begon hij zijn carrière als belastingadviseur\, waar hij een brede doelgroep\nadviseerde. Vervolgens maakte hij de overstap naar de Belastingdienst\, waar hij zowel in Arnhem als Rotterdam\nwerkzaam was in de nationale en internationale loonheffingenpraktijk. Momenteel is Peter landelijk vaktechnisch\ncoördinator loonheffingen bij het Landelijk Kantoor Belastingdienstregio’s in Den Haag.\nNaast zijn werk bij de Belastingdienst\, deelt Peter zijn uitgebreide kennis als docent bij het Register Belastingadviseurs en\nde Erasmus Universiteit Rotterdam. Hij is een gewaardeerde medewerker van Vakstudie Nieuws en auteur van diverse\nvakgerichte boeken\, waaronder “Loonheffingen Editie 2023” en “Werkkostenregeling”. Ook is hij coauteur van “Wet\nDBA\, van VAR naar modelovereenkomsten”.\nPeter is een veelgevraagd spreker op congressen\, studiedagen en seminars\, waar hij zijn inzichten en expertise deelt. Zijn\nnevenwerkzaamheden\, waaronder het schrijven van vakgerichte boeken\, verricht hij op persoonlijke titel\, wat zijn\ntoewijding aan het vakgebied onderstreept. Met zijn diepgaande kennis en jarenlange ervaring is Peter een inspirerende\nen invloedrijke spreker die altijd nieuwe perspectieven biedt. \nUiterlijke inschrijfdatum: 29-05-2025 \nKosten: € 0\,- voor geregistreerden en aspirant-geregistreerden. \nAantal PE punten: 2 \nAanmelden \n\n  \n*Door u in te schrijven geeft u toestemming dat uw gegevens gedeeld worden met de organiserende partij. \n**Bij onvoldoende aanmeldingen behouden wij het recht om de updatesessie te annuleren. Uiteraard wordt u hiervan tijdig geïnformeerd
URL:https://www.srfa.nl/agenda/updatesessie-werkkostenregeling-peter-hoogstraaten-12-juni-2025-2-pe-punten-online/
LOCATION:Online
ATTACH;FMTTYPE=image/jpeg:https://www.srfa.nl/wp-content/uploads/2024/12/Peter-Hoogstraaten-002.jpg
END:VEVENT
BEGIN:VEVENT
DTSTART;TZID=Europe/Amsterdam:20250618T130000
DTEND;TZID=Europe/Amsterdam:20250618T180000
DTSTAMP:20260422T051739
CREATED:20250102T132403Z
LAST-MODIFIED:20250612T072251Z
UID:22932-1750251600-1750269600@www.srfa.nl
SUMMARY:-VOL-Updatesessie: Fiscale optimalisatie voor de MKB  |  Robin Reijnierse | 18 juni 2025 | 5 (PE-punten) - Fysiek
DESCRIPTION:De updatesessie is vol – schrijf je in voor de volgende!\n  \nPraktijkgerichte cursus hoe jij het verschil kunt maken voor je klant. \nKorte bio Robin Reijnierse:\nRobin heeft ruim 35 jaar ervaring in de algemene belastingadviespraktijk. Daarbij ligt de nadruk vooral op directeuren grootaandeelhouders en op vermogende particulieren. Hij houdt van mooie dingen\, zoals bijvoorbeeld een klassiek concert in het concertgebouw\, architectuur\, kunst en de natuur. \nSpreker: Robin Reijnierse\nLocatie: Leusden\, Auxilium Adviesgroep B.V.\nUiterlijke inschrijfdatum: 04-06-2025\nKosten: € 275- voor geregistreerden en aspirant-geregistreerden. \nMaximum aantal inschrijvingen: 50 (VOL = VOL) \nAantal PE punten: 5 \n  \nAanmelden \n\n*Door u in te schrijven geeft u toestemming dat uw gegevens gedeeld worden met de organiserende partij. \n**Bij onvoldoende aanmeldingen behouden wij het recht om de updatesessie te annuleren. Uiteraard wordt u hiervan tijdig geïnformeerd
URL:https://www.srfa.nl/agenda/updatesessie-fiscale-optimalisatie-voor-de-mkb-robin-reijnierse-18-juni-2025-5-pe-punten-fysiek/
LOCATION:Leusden\, Auxilium Adviesgroep B.V.\, Philipsstraat 3\, Leusden\, 3833 LC
ATTACH;FMTTYPE=image/jpeg:https://www.srfa.nl/wp-content/uploads/2025/01/Robin-scaled.jpg
END:VEVENT
END:VCALENDAR