BEGIN:VCALENDAR
VERSION:2.0
PRODID:-//Stichting Register Fiscaal &amp; Financieel Advies - ECPv6.15.20//NONSGML v1.0//EN
CALSCALE:GREGORIAN
METHOD:PUBLISH
X-ORIGINAL-URL:https://www.srfa.nl
X-WR-CALDESC:Evenementen voor Stichting Register Fiscaal &amp; Financieel Advies
REFRESH-INTERVAL;VALUE=DURATION:PT1H
X-Robots-Tag:noindex
X-PUBLISHED-TTL:PT1H
BEGIN:VTIMEZONE
TZID:Europe/Amsterdam
BEGIN:DAYLIGHT
TZOFFSETFROM:+0100
TZOFFSETTO:+0200
TZNAME:CEST
DTSTART:20240331T010000
END:DAYLIGHT
BEGIN:STANDARD
TZOFFSETFROM:+0200
TZOFFSETTO:+0100
TZNAME:CET
DTSTART:20241027T010000
END:STANDARD
BEGIN:DAYLIGHT
TZOFFSETFROM:+0100
TZOFFSETTO:+0200
TZNAME:CEST
DTSTART:20250330T010000
END:DAYLIGHT
BEGIN:STANDARD
TZOFFSETFROM:+0200
TZOFFSETTO:+0100
TZNAME:CET
DTSTART:20251026T010000
END:STANDARD
BEGIN:DAYLIGHT
TZOFFSETFROM:+0100
TZOFFSETTO:+0200
TZNAME:CEST
DTSTART:20260329T010000
END:DAYLIGHT
BEGIN:STANDARD
TZOFFSETFROM:+0200
TZOFFSETTO:+0100
TZNAME:CET
DTSTART:20261025T010000
END:STANDARD
END:VTIMEZONE
BEGIN:VEVENT
DTSTART;TZID=Europe/Amsterdam:20250318T140000
DTEND;TZID=Europe/Amsterdam:20250318T170000
DTSTAMP:20260424T133921
CREATED:20250102T130031Z
LAST-MODIFIED:20250107T120959Z
UID:22926-1742306400-1742317200@www.srfa.nl
SUMMARY:Updatesessie: Update IB  |  Martin de Vries | 18 maart 2025 | 3 (PE-punten) - Online
DESCRIPTION:Praktische cursus IB 2024 aan de hand van een casus met staking \nProgramma\n• Voordelen en Nadelen van de Overgang\n• Juridische Aspecten\n• Fiscale Gevolgen\n• Administratieve Verplichtingen\n• Praktische Voorbeelden en Case Studies \nKorte bio Martin de Vries\nMartin heeft 20 jaar fiscale ervaring: hij kent de adviespraktijk vanuit kleine en grote kantoren en als zelfstandig ondernemer. Een allrounder dus! Martin vindt het fijn om in een team te werken: “samen weten we meer”. Die rol sluit mooi aan bij het fiscale team van Auxilium. \nUiterlijke inschrijfdatum: 04-03-2025 \nKosten: € 0\,- voor geregistreerden en aspirant-geregistreerden. \nAantal PE punten: 3 \nAanmelden \n\n  \n*Door u in te schrijven geeft u toestemming dat uw gegevens gedeeld worden met de organiserende partij. \n**Bij onvoldoende aanmeldingen behouden wij het recht om de updatesessie te annuleren. Uiteraard wordt u hiervan tijdig geïnformeerd
URL:https://www.srfa.nl/agenda/updatesessie-update-ib-martin-de-vries-18-maart-2025-3-pe-punten-online/
LOCATION:Online
ATTACH;FMTTYPE=image/jpeg:https://www.srfa.nl/wp-content/uploads/2025/01/auxilium-martin-01-scaled-e1766499859800.jpg
END:VEVENT
END:VCALENDAR