BEGIN:VCALENDAR
VERSION:2.0
PRODID:-//Stichting Register Fiscaal &amp; Financieel Advies - ECPv6.15.20//NONSGML v1.0//EN
CALSCALE:GREGORIAN
METHOD:PUBLISH
X-WR-CALNAME:Stichting Register Fiscaal &amp; Financieel Advies
X-ORIGINAL-URL:https://www.srfa.nl
X-WR-CALDESC:Evenementen voor Stichting Register Fiscaal &amp; Financieel Advies
REFRESH-INTERVAL;VALUE=DURATION:PT1H
X-Robots-Tag:noindex
X-PUBLISHED-TTL:PT1H
BEGIN:VTIMEZONE
TZID:Europe/Amsterdam
BEGIN:DAYLIGHT
TZOFFSETFROM:+0100
TZOFFSETTO:+0200
TZNAME:CEST
DTSTART:20230326T010000
END:DAYLIGHT
BEGIN:STANDARD
TZOFFSETFROM:+0200
TZOFFSETTO:+0100
TZNAME:CET
DTSTART:20231029T010000
END:STANDARD
BEGIN:DAYLIGHT
TZOFFSETFROM:+0100
TZOFFSETTO:+0200
TZNAME:CEST
DTSTART:20240331T010000
END:DAYLIGHT
BEGIN:STANDARD
TZOFFSETFROM:+0200
TZOFFSETTO:+0100
TZNAME:CET
DTSTART:20241027T010000
END:STANDARD
BEGIN:DAYLIGHT
TZOFFSETFROM:+0100
TZOFFSETTO:+0200
TZNAME:CEST
DTSTART:20250330T010000
END:DAYLIGHT
BEGIN:STANDARD
TZOFFSETFROM:+0200
TZOFFSETTO:+0100
TZNAME:CET
DTSTART:20251026T010000
END:STANDARD
END:VTIMEZONE
BEGIN:VEVENT
DTSTART;TZID=Europe/Amsterdam:20241024T100000
DTEND;TZID=Europe/Amsterdam:20241024T130000
DTSTAMP:20260424T214758
CREATED:20240205T114617Z
LAST-MODIFIED:20241022T110746Z
UID:22312-1729764000-1729774800@www.srfa.nl
SUMMARY:[Updatesessie] Financieel/Fiscaal/Zorg: ZZP problematiek | Hans Tabak (3 PE-punten) - Online
DESCRIPTION:De inschrijving is gesloten. Mocht u toch willen deelnemen\, neem dan contact op met het secretariaat via info@SRFA.nl. \nInleiding \nEr is veel onrust en onzekerheid over het werken met ZZP-ers. Kan dit nog wel vanaf 2025? Welke rechten en plichten volgen uit het Deliveroo arrest? Na deze training bent u weer helemaal op de hoogte. Adviseur loonheffingen Hans Tabak\, verbonden aan Fiscount\, brengt een en ander op praktische wijze in kaart. \nInhoud \nDe training gaat in op de volgende drie onderwerpen: \n\nIn oktober 2023 is het wetsvoorstel ‘Verduidelijking beoordeling arbeidsrelaties en rechtsvermoeden’(VBAR) ter consultatie gepubliceerd. Dit wetsvoorstel is de zoveelste poging om wetgeving te formuleren over het inhuren van zzp’ers en de vraag of er al dan niet sprake is van een arbeidsovereenkomst.\nDe Belastingdienst gaat de handhaving versterken en te verbeteren met meer personeel en een verdubbeling van het aantal bedrijfsbezoeken in 2023. De Belastingdienst wil vanaf 2025 het zogeheten ‘handhavingsmoratorium’ opheffen\, waardoor loonheffingen weer kunnen worden nageheven bij opdrachtgevers.\nRecente uitspraken\, zoals het Deliveroo arrest\, geven ZZP-ers rechten en de werkgever plichten op grond van het arbeidsrecht.\n\nDe gewijzigde regelgeving heeft veel gevolgen voor opdrachtgevers en zzp’ers en dus ook voor jouw werkzaamheden. \nDoel \nNa deze cursus ben je op de hoogte van de belangrijkste elementen van het wetsvoorstel en kun je jouw klanten tijdig informeren. Je bent in staat de regelgeving toe te passen en om risico’s te onderkennen. Je hebt handvatten om een arbeidsrelatie te beoordelen en de juiste overeenkomst op te stellen. Hierdoor kun je de risico’s voor je klant uitsluiten dan wel beperken. \nDoelgroep \nIedereen die betrokken is bij het inhuren zzp’ers en de risico’s daarbij. \n  \nSpreker: Hans Tabak | adviseur loonheffingen bij Fiscount Juristen\nUiterlijke inschrijfdatum: 23-10-2024\nKosten: € 0\,- voor geregistreerden en aspirant-geregistreerden. \nAantal PE punten: 3 \nAanmelden \n\n  \n*Door u in te schrijven geeft u toestemming dat uw gegevens gedeeld worden met de organiserende partij. \n**Bij onvoldoende aanmeldingen behouden wij het recht om de updatesessie te annuleren. Uiteraard wordt u hiervan tijdig geïnformeerd
URL:https://www.srfa.nl/agenda/updatesessie-zzp-problematiek-3-pe-punten-online/
LOCATION:Online
ATTACH;FMTTYPE=image/jpeg:https://www.srfa.nl/wp-content/uploads/2024/02/Hans-Tabak-portret.jpg
END:VEVENT
END:VCALENDAR