BEGIN:VCALENDAR
VERSION:2.0
PRODID:-//Stichting Register Fiscaal &amp; Financieel Advies - ECPv6.15.20//NONSGML v1.0//EN
CALSCALE:GREGORIAN
METHOD:PUBLISH
X-WR-CALNAME:Stichting Register Fiscaal &amp; Financieel Advies
X-ORIGINAL-URL:https://www.srfa.nl
X-WR-CALDESC:Evenementen voor Stichting Register Fiscaal &amp; Financieel Advies
REFRESH-INTERVAL;VALUE=DURATION:PT1H
X-Robots-Tag:noindex
X-PUBLISHED-TTL:PT1H
BEGIN:VTIMEZONE
TZID:Europe/Amsterdam
BEGIN:DAYLIGHT
TZOFFSETFROM:+0100
TZOFFSETTO:+0200
TZNAME:CEST
DTSTART:20230326T010000
END:DAYLIGHT
BEGIN:STANDARD
TZOFFSETFROM:+0200
TZOFFSETTO:+0100
TZNAME:CET
DTSTART:20231029T010000
END:STANDARD
BEGIN:DAYLIGHT
TZOFFSETFROM:+0100
TZOFFSETTO:+0200
TZNAME:CEST
DTSTART:20240331T010000
END:DAYLIGHT
BEGIN:STANDARD
TZOFFSETFROM:+0200
TZOFFSETTO:+0100
TZNAME:CET
DTSTART:20241027T010000
END:STANDARD
BEGIN:DAYLIGHT
TZOFFSETFROM:+0100
TZOFFSETTO:+0200
TZNAME:CEST
DTSTART:20250330T010000
END:DAYLIGHT
BEGIN:STANDARD
TZOFFSETFROM:+0200
TZOFFSETTO:+0100
TZNAME:CET
DTSTART:20251026T010000
END:STANDARD
END:VTIMEZONE
BEGIN:VEVENT
DTSTART;TZID=Europe/Amsterdam:20240910T140000
DTEND;TZID=Europe/Amsterdam:20240910T200000
DTSTAMP:20260424T232349
CREATED:20240205T111937Z
LAST-MODIFIED:20240612T093806Z
UID:22303-1725976800-1725998400@www.srfa.nl
SUMMARY:[Updatesessie] Financieel/Fiscaal: BTW-Actualiteiten | Roger Klinkenberg(5 PE-punten) Fysiek
DESCRIPTION:SRFA: Btw-actualiteiten \nDe btw-wetgeving is volop in beweging en zal er ook niet eenvoudiger op worden. Voor iedere accountant en mkb-adviseur is het daarom van belang om de ontwikkelingen op dit terrein goed te (blijven) volgen. Je wilt tenslotte goed ‘bij’ zijn als je je cliënten adviseert op btw-gebied. \nTijdens deze cursus neemt Roger Klinkeberg de nieuwste btw-regelgeving\, beleidsbesluiten en rechtspraak met je door. Aan de hand van veel voorkomende praktijksituaties bespreekt hij in ieder geval de volgende onderwerpen: \n\nbtw en onroerend goed (inclusief het nieuwe Vastgoedbesluit)\ne-commerce en handelstransacties binnen en buiten de EU\nbtw-problematiek rond de holding-bv\naftrek voorbelasting en subsidies\nde nieuwe KOR vanaf 2025\noverige actualiteiten\n\nDeze cursus heeft nadrukkelijk een interactief karakter. Dus heb je vragen als: hoe zit het nu met de btw wanneer een terrein al dan niet als bouwterrein wordt geleverd? Wat zijn de consequenties als mijn cliënt de margeregeling foutief heeft toegepast? Welk btw-tarief moet mijn cliënt toepassen bij specifieke e-commercediensten? Stel ze tijdens de training aan Roger Klinkeberg; hij maakt in zijn programma graag enige ruimte voor dit soort praktijkvragen. \nNa het volgen van deze cursus ben je goed geïnformeerd over de recente wijzigingen en verwachte ontwikkelingen op btw-gebied. Hierdoor kun je je cliënten op tijd wijzen op mogelijke kansen en risico’s. Ook kun je hierna concrete oplossingen bieden bij btw-problemen. \nSpreker \nRoger Klinkeberg is civiel en fiscaal jurist en heeft ruim twintig jaar ervaring als btw-specialist in de nationale en internationale praktijk. Hij is onder andere verbonden aan Fiscount en geeft regelmatig trainingen en cursussen op het gebied van btw. Roger Klinkeberg staat bekend om zijn deskundigheid\, begrijpelijke taal en relevante adviezen voor specifieke situaties. \nSpreker: Roger Klinkenberg\nUiterlijke inschrijfdatum: 06-09-2024\nMaximum aantal inschrijvingen: 50 (VOL = VOL) \nKosten: € 210\,- voor geregistreerden en aspirant-geregistreerden. \nAantal PE punten: 5 \nAanmelden \n\n  \n*Door u in te schrijven geeft u toestemming dat uw gegevens gedeeld worden met de organiserende partij. \n**Bij onvoldoende aanmeldingen behouden wij het recht om de updatesessie te annuleren. Uiteraard wordt u hiervan tijdig geïnformeerd
URL:https://www.srfa.nl/agenda/updatesessie-financieel-fiscaal-btw-actualiteiten-roger-klinkenberg5-pe-punten-fysiek/
LOCATION:Kloosterhoeve\, Kloosterweg 2\, Harmelen\, 3481 XC
ATTACH;FMTTYPE=image/jpeg:https://www.srfa.nl/wp-content/uploads/2024/04/Roger-Klinkeberg-1080x1080-1-e1713874170857.jpg
END:VEVENT
BEGIN:VEVENT
DTSTART;TZID=Europe/Amsterdam:20240926T093000
DTEND;TZID=Europe/Amsterdam:20240926T123000
DTSTAMP:20260424T232349
CREATED:20240205T112848Z
LAST-MODIFIED:20240819T105446Z
UID:22307-1727343000-1727353800@www.srfa.nl
SUMMARY:[Updatesessie] Financieel/Fiscaal: Update Prinsjesdag en BTW | Carola van Vilsteren (3 PE-punten) - Online
DESCRIPTION:Update Prinsjesdag en BTW \nPrinsjesdag\, het moment van het jaar waarop de miljoenennota en de Rijksbegroting bekend worden gemaakt. Hierin wordt duidelijk waar het geld van de regering naartoe gaat én waar het geld vandaan komt. Dat heeft ook voor jou als financieel professional effecten. Deze training geeft jou vooral inzicht in de BTW-actualiteiten naar aanleiding van Prinsjesdag. \nProgramma \nTijdens de training komen de volgende onderwerpen aan bod: \n\nBTW-actualiteiten naar aanleiding van Prinsjesdag\n\nSpreker  \nCarola van Vilsteren \nSpreker: Carola van Vilsteren\nUiterlijke inschrijfdatum: 12-09-2024\nAfmelden uiterlijk: 19-09-2024\nKosten: € 0\,- voor geregistreerden en aspirant-geregistreerden. \nAantal PE punten: 3 \nAanmelden \n\n  \n*Door u in te schrijven geeft u toestemming dat uw gegevens gedeeld worden met de organiserende partij. \n**Bij onvoldoende aanmeldingen behouden wij het recht om de updatesessie te annuleren. Uiteraard wordt u hiervan tijdig geïnformeerd
URL:https://www.srfa.nl/agenda/updatesessie-update-prinsjesdag-3-pe-punten-online/
LOCATION:Online
ATTACH;FMTTYPE=image/jpeg:https://www.srfa.nl/wp-content/uploads/2024/02/Carola-e1724064989836.jpg
END:VEVENT
END:VCALENDAR