BEGIN:VCALENDAR
VERSION:2.0
PRODID:-//Stichting Register Fiscaal &amp; Financieel Advies - ECPv6.15.20//NONSGML v1.0//EN
CALSCALE:GREGORIAN
METHOD:PUBLISH
X-WR-CALNAME:Stichting Register Fiscaal &amp; Financieel Advies
X-ORIGINAL-URL:https://www.srfa.nl
X-WR-CALDESC:Evenementen voor Stichting Register Fiscaal &amp; Financieel Advies
REFRESH-INTERVAL;VALUE=DURATION:PT1H
X-Robots-Tag:noindex
X-PUBLISHED-TTL:PT1H
BEGIN:VTIMEZONE
TZID:Europe/Amsterdam
BEGIN:DAYLIGHT
TZOFFSETFROM:+0100
TZOFFSETTO:+0200
TZNAME:CEST
DTSTART:20230326T010000
END:DAYLIGHT
BEGIN:STANDARD
TZOFFSETFROM:+0200
TZOFFSETTO:+0100
TZNAME:CET
DTSTART:20231029T010000
END:STANDARD
BEGIN:DAYLIGHT
TZOFFSETFROM:+0100
TZOFFSETTO:+0200
TZNAME:CEST
DTSTART:20240331T010000
END:DAYLIGHT
BEGIN:STANDARD
TZOFFSETFROM:+0200
TZOFFSETTO:+0100
TZNAME:CET
DTSTART:20241027T010000
END:STANDARD
BEGIN:DAYLIGHT
TZOFFSETFROM:+0100
TZOFFSETTO:+0200
TZNAME:CEST
DTSTART:20250330T010000
END:DAYLIGHT
BEGIN:STANDARD
TZOFFSETFROM:+0200
TZOFFSETTO:+0100
TZNAME:CET
DTSTART:20251026T010000
END:STANDARD
END:VTIMEZONE
BEGIN:VEVENT
DTSTART;TZID=Europe/Amsterdam:20240606T140000
DTEND;TZID=Europe/Amsterdam:20240606T200000
DTSTAMP:20260425T041645
CREATED:20240205T093918Z
LAST-MODIFIED:20240521T142951Z
UID:22293-1717682400-1717704000@www.srfa.nl
SUMMARY:[Special Updatesessie] Financieel/Fiscaal: Fiscaliteit en Mobiliteit | Heleen Elbert (5 PE-punten) Fysiek
DESCRIPTION:Fiscaliteit en Mobiliteit \nVoor leden van de SRFA organiseren wij een eendaagse training over Fiscaliteit en Mobiliteit. Tijdens deze training zullen de deelnemers inzicht krijgen in de fiscale aspecten van mobiliteit. De training zal worden gegeven door een expert op het gebied van fiscaliteit en mobiliteit. De deelnemers zullen leren over de verschillende fiscale regelingen die van toepassing zijn op mobiliteit\, zoals de bijtelling van de auto van de zaak en de reiskostenvergoeding. Daarnaast zullen de deelnemers leren hoe zij deze regelingen kunnen toepassen in hun eigen praktijk. \nDe fiscale risico’s en kansen op mobiliteitsgebied worden vaak onderschat. Dit leidt niet zelden tot hoge belastingaanslagen of het missen van belastingvoordeel. In deze training zet autobelastingspecialist Heleen Elbert onder meer de volgende onderwerpen in de schijnwerpers: \n\nBijtelling auto & fiets: wat zijn de mogelijkheden en hoe staat u sterker in een discussie met de Belastingdienst\nFiscale verklaringen en aansprakelijkheid\nAfkoop bijtelling bij doorlopend afwisselend gebruik bestelauto\nBuitenlandse werknemers\nFiscale subsidies: laat geen geld liggen!\nGrijskentekenregeling: hoe zit deze in elkaar en wat zijn de consequenties van het vervallen van de ondernemersvrijstelling per 1 januari aanstaande?\nOmzetbelasting en mobiliteit\nFiscale risico’s buitenlandse auto’s\nWerkkostenregeling en mobiliteitsbudgetten\nFiscale vereenvoudiging openbaar vervoer\nRapportageplicht CO2-uitstoot voor werkgevers (vermoedelijke ingangsdatum 1 juli 2024)\nInvloed instelling Zero Emissie Zones per 1 januari aanstaande\n\nSpreker  \nHeleen Elbert is fiscaal jurist en oud-belastinginspecteur. Zij is werkzaam als belastingadviseur bij ELBERT FISCAAL. Als auteur is zij verbonden aan o.m. het Nederlands Tijdschrift voor Fiscaal Recht\, de fiscale encyclopedie Nederlandse Documentatie Fiscaal Recht en het tijdschrift Belastingzaken. Daarnaast zijn onder meer de volgende boeken van haar hand: ‘De auto\, zakelijk en privé’ (Sdu Uitgevers) en ‘Parkeerbon? Nee dank u!’ (Bzzztôh). Daarnaast geeft zij regelmatig lezingen en trainingen op\, onder meer\, het gebied van de autobelastingen. \nHeleen focust zeker niet alleen op autobelastingen. Met haar brede fiscale kennis adviseert zij ondernemers ook inzake estate planning\, firmaproblematiek in het mkb en echtscheiding. \nSpreker: Heleen Elbert\nUiterlijke inschrijfdatum: 03-06-2024 (Indien deze datum is verlopen mail ons gerust of er nog plek is!)\nMaximum aantal inschrijvingen: 50 (VOL = VOL) \nKosten: € 275\,- voor geregistreerden en aspirant-geregistreerden. \nAantal PE punten: 5 \nLocatie & Catering \nDeze update sessie vindt plaats bij Landgoed Zonheuvel te Doorn. \nHotel & Conferentiecentrum Landgoed Zonheuvel \nGezien deze sessie van 14.00 tot 20.00uur duurt bieden wij u tijdens de pauze een 2 gangen diner inclusief 2 drankjes aan. \nAanmelden \n\n  \n*Bij onvoldoende aanmeldingen behouden wij het recht om de updatesessie te annuleren. Uiteraard wordt u hiervan tijdig geïnformeerd \n*Bij later afmelden worden de kosten aan u doorberekenend i.v.m. de externe locatie & catering
URL:https://www.srfa.nl/agenda/special-updatesessie-financieel-fiscaal-fiscaliteit-en-mobiliteit-heleen-elbert-5-pe-punten-fysiek/
LOCATION:Landgoed Zonheuvel\, Amersfoortseweg 98\, Doorn\, 3941 EP
ATTACH;FMTTYPE=image/jpeg:https://www.srfa.nl/wp-content/uploads/2024/02/Heleen-Elbert-e1709210009833.jpg
END:VEVENT
BEGIN:VEVENT
DTSTART;TZID=Europe/Amsterdam:20240625T130000
DTEND;TZID=Europe/Amsterdam:20240625T160000
DTSTAMP:20260425T041645
CREATED:20240229T104300Z
LAST-MODIFIED:20240625T092441Z
UID:22430-1719320400-1719331200@www.srfa.nl
SUMMARY:[Updatesessie] Zorg: Zorgadministratie |  (3 PE-punten) - Online
DESCRIPTION:In dit webinar zullen we ingaan op de verbijzonderde interne controle zoals deze in de beleidsregels WLZ en FZ voorkomen en waarom het voor de WMO en de JW ook relevant is.\nWe gaan in op de relevante wet- en regelgeving\, het nut en noodzaak van de interne controle functie en de wijze waarop u dit in uw organisatie op een pragmatische manier vorm kan geven.\nHiervan zal u profiteren in gesprek met uw accountant  en zowel interne als externe toezichthouders.\nTijdens het webinar kunt u vragen stellen waaraan\, zo mogelijk\, tijdens het webinar aandacht gegeven zal worden. \nOver Kees Hummelen RA \nKees is opgeleid als accountant bij een van de vier grote accountantskantoren met in zijn portefeuille een aantal zorgaanbieders in de langdurige zorg. Na zijn afstuderen is Kees aan het werk gegaan als (interim) manager in de zorg op het vlak van financiën en automatisering met vaak ook een aspect van verantwoordingen daarbij.\nKees heeft een brede ervaring\, ook als medewerker interne controle\, bij zorgorganisaties. Daarnaast heeft Kees ook klussen gedaan voor de NZa\, een gemeente en in het voorjaar 2024 voor een accountantskantoor gespecialiseerd in de zorg.\nKees is een pragmaticus die vooral gericht is op zoveel-mogelijk-geld-naar-de-cliënten waarbij hij met minimale inspanning maximaal wil voldoen aan wet- en regelgeving en verzoeken van financiers. \nSpreker: Kees Hummelen RA\nUiterlijke inschrijfdatum: 11-06-2024\nKosten: € 0\,- voor geregistreerden en aspirant-geregistreerden. \nAantal PE punten: 3 \nAanmelden \n\n*Door u in te schrijven geeft u toestemming dat uw gegevens gedeeld worden met de organiserende partij. \n**Bij onvoldoende aanmeldingen behouden wij het recht om de updatesessie te annuleren. Uiteraard wordt u hiervan tijdig geïnformeerd.
URL:https://www.srfa.nl/agenda/updatesessie-zorg-zorgadministratie-3-pe-punten-online/
LOCATION:Online
END:VEVENT
END:VCALENDAR