BEGIN:VCALENDAR
VERSION:2.0
PRODID:-//Stichting Register Fiscaal &amp; Financieel Advies - ECPv6.15.20//NONSGML v1.0//EN
CALSCALE:GREGORIAN
METHOD:PUBLISH
X-ORIGINAL-URL:https://www.srfa.nl
X-WR-CALDESC:Evenementen voor Stichting Register Fiscaal &amp; Financieel Advies
REFRESH-INTERVAL;VALUE=DURATION:PT1H
X-Robots-Tag:noindex
X-PUBLISHED-TTL:PT1H
BEGIN:VTIMEZONE
TZID:Europe/Amsterdam
BEGIN:DAYLIGHT
TZOFFSETFROM:+0100
TZOFFSETTO:+0200
TZNAME:CEST
DTSTART:20220327T010000
END:DAYLIGHT
BEGIN:STANDARD
TZOFFSETFROM:+0200
TZOFFSETTO:+0100
TZNAME:CET
DTSTART:20221030T010000
END:STANDARD
BEGIN:DAYLIGHT
TZOFFSETFROM:+0100
TZOFFSETTO:+0200
TZNAME:CEST
DTSTART:20230326T010000
END:DAYLIGHT
BEGIN:STANDARD
TZOFFSETFROM:+0200
TZOFFSETTO:+0100
TZNAME:CET
DTSTART:20231029T010000
END:STANDARD
BEGIN:DAYLIGHT
TZOFFSETFROM:+0100
TZOFFSETTO:+0200
TZNAME:CEST
DTSTART:20240331T010000
END:DAYLIGHT
BEGIN:STANDARD
TZOFFSETFROM:+0200
TZOFFSETTO:+0100
TZNAME:CET
DTSTART:20241027T010000
END:STANDARD
END:VTIMEZONE
BEGIN:VEVENT
DTSTART;TZID=Europe/Amsterdam:20231107T130000
DTEND;TZID=Europe/Amsterdam:20231107T160000
DTSTAMP:20260425T153009
CREATED:20230116T113058Z
LAST-MODIFIED:20240208T100353Z
UID:21314-1699362000-1699372800@www.srfa.nl
SUMMARY:[Updatesessie] Financieel: ESG\, CSRD en Duurzaamheid (3 PE-punten)
DESCRIPTION:Als finance professional is jouw rol cruciaal om de prestaties van jouw organisatie op environmental\, social en governance (ESG) gebied te presenteren. Vanaf 2024 zijn bedrijven verplicht om te rapporteren over duurzaamheid. Maar wat houdt ESG eigenlijk in? Tijdens deze onlinebijeenkomst leer je hoe het regelgevend kader eruitziet en wanneer je eraan moet voldoen. Maak als financial in hoofdlijnen kennis met alle aspecten met betrekking tot ESG en de richtlijn Corporate Sustainability Reporting Directive (CSRD). Met deze kennissessie zet je een goede eerste stap om overzicht te krijgen in de materie van ESG. Zo ken jij als financial de ins en outs van dit onderwerp en kan jij een belangrijke rol vervullen bij de transitie naar duurzaam ondernemen en de verslaggeving daarover. \nDe training wordt verzorgd door een ervaren trainer die zelf actief is in de praktijk. Tijdens het programma worden de 3 belangrijkste onderwerpen besproken: \nWelke onderwerpen vallen onder ESG \n\nDe achtergrond van ESG en duurzaamheid\nDe relatie van ESG met betrekking tot strategie\n\nProgramma \nTijdens de onlinebijeenkomst komen de volgende onderwerpen aan bod: \n\nWelke onderwerpen vallen onder ESG\nWet- en regelgevingskader;\nDe achtergrond van ESG en Duurzaamheid;\nRelatie ESG en duurzame lange termijn waardecreatie strategie;\nBelangrijke stakeholders bij ESG verslaggeving;\nSelectie van materiële verslaggevings onderwerpen en indicatoren;\nInrichting administratieve organisatie;\nNiet financiële KPI’s;\nCSRD en verslaglegging\n\nSpreker \nDe updatesessie wordt gegeven door Remko Renes. Drs. Remko Renes RA is assistant professor corporate governance aan Nyenrode Business Universiteit en lid van het Nyenrode Corporate Governance Instituut. Hij maakt deel uit van het Nyenrode Faculty Expertisecenter Accounting\, Auditing & Control. Zijn expertise is corporate governance en auditing\, in het bijzonder interne controle\, internal audit\, business control en risicomanagement. Binnen Nyenrode Business Universiteit is Renes voorzitter van de toetscommissie. \nVan 1990 tot 2009 was Renes werkzaam bij KPMG op het gebied van Audit and Assurance Services\, Management Assurance Services\, Non Financial & Advisory Services en Internal Audit. Binnen de afdeling Professional Practice was hij betrokken bij en verantwoordelijk voor corporate governance\, internal control audit (Sarbanes Oxley) en de ontwikkeling en het onderwijs van internationale opleidingen. \nUiterlijke inschrijfdatum: 31-10-2023 -Gesloten\nAfmelden uiterlijk 6-11-2023 \nKosten: € 0 voor geregistreerden en aspirant-geregistreerden \nAantal PE punten: 3 \nAanmelden
URL:https://www.srfa.nl/agenda/updatesessie-financieel-esg-voor-de-financial-onder-voorbehoud/
LOCATION:Online
ORGANIZER;CN="SRFA":MAILTO:info@srfa.nl
END:VEVENT
BEGIN:VEVENT
DTSTART;TZID=Europe/Amsterdam:20231130T120000
DTEND;TZID=Europe/Amsterdam:20231130T130000
DTSTAMP:20260425T153009
CREATED:20231114T152707Z
LAST-MODIFIED:20231128T082304Z
UID:22016-1701345600-1701349200@www.srfa.nl
SUMMARY:[Updatesessie] Informatiebeveiliging in de zorg (1 PE-punt) -AANMELDING GESLOTEN-
DESCRIPTION:Op 30 november vindt een extra updatesessie plaats over informatiebeveiliging in de zorg. Deze updatesessie geeft voorbeelden uit de zorg maar is interessant voor alle geregistreerden die privacygevoelige gegevens verwerken. Is uw organisatie ooit gehackt? Of heeft u een datalek gehad? Waar werd dit dan door veroorzaakt? In veel gevallen door menselijk handelen…. Wilt u ontdekken hoe de mens de succesbepalende factor kan zijn om informatiebeveiliging in de zorg naar een hoger niveau te tillen en hoe gedragsverandering daarin een essentiële rol speelt? Dan mag u deze online updatesessie niet missen! \n\n\n\n\n\n\nMeld u onderaan aan voor de gratis updatesessie op 30 november. \nOp 30 november wordt deze updatesessie georganiseerd in samenwerking met HBO Acadamy (voorheen HBO Drechtsteden)\, KEI experts in de zorg en Markus Verbeek Praehep. Tijdens deze updatesessie staat het onderwerp informatiebeveiliging centraal\, een actueel thema in de zorgsector. Uitgangspunt is daarbij het boek ‘Pas (er)op!’\, geschreven door Jan Hoogstra en Kimberley Tonkes. Zij zijn tevens de gast sprekers tijdens deze updatesessie. \nIn de Nederlandse gezondheidszorg is informatiebeveiliging meer dan alleen maar een kwestie van protocollen en technologie. Het draait om mensen\, hun gedrag en hun bewustzijn. Tijdens deze updatesessie brengen we de kracht van informatiebeveiliging in de zorg tot leven met concrete Nederlandse voorbeelden en inzichten. \nWe delen onze kennis over gedragsregels en bieden praktische tips en een stappenplan om gewenst gedrag op het gebied van informatiebeveiliging te realiseren. \nSamen werken we aan veiligere zorg voor iedereen! \nOver de sprekers: \n \nKimberley Tonkes: al vanaf jonge leeftijd is Kimberley Tonkes gefascineerd door het gedrag van mensen. Haar fascinatie was bepalend voor de uiteindelijke keuzes die zij maakte gedurende haar schoolcarrière voor onder meer communicatie en arbeid- en organisatiepsychologie. Kimberley heeft meer dan 15 jaar ervaring op gebied van mens en organisatie in diverse rollen en binnen diverse organisaties\, voornamelijk in de zorg. Een belangrijk aandachtspunt voor haar hierin is het vertalen van organisatiebeleid naar mensen en vice versa. De laatste jaren heeft zij met interesse ervaring opgedaan voor het aspect mens en informatiebeveiliging. \nJan Hoogstra: heeft 25 jaar ervaring in het vakgebied IT-auditing en IT-advies\, eerst bij KPMG\, daarna zelfstandig. Jan is oprichter en directeur bij CognoSense. Hij heeft veel opdrachten gedaan op het gebied van informatiebeveiliging\, zowel aan de toetsende als adviserende kant. Daarbij heeft hij gezien dat de mens in informatiebeveiligingstrajecten de succesbepalende factor is. Met behulp van de menselijke factor ziet Jan veel kansen in het veilig en doelmatig inzetten van IT om bedrijfsprocessen te verbeteren. \nUiterlijk aanmelddatum: Maandag 27 november -GESLOTEN- \n\n\n\n 
URL:https://www.srfa.nl/agenda/updatesessie-informatiebeveiliging-in-de-zorg-1-pe-punt/
LOCATION:Online
ORGANIZER;CN="SRFA":MAILTO:info@srfa.nl
END:VEVENT
END:VCALENDAR