BEGIN:VCALENDAR
VERSION:2.0
PRODID:-//Stichting Register Fiscaal &amp; Financieel Advies - ECPv6.15.20//NONSGML v1.0//EN
CALSCALE:GREGORIAN
METHOD:PUBLISH
X-WR-CALNAME:Stichting Register Fiscaal &amp; Financieel Advies
X-ORIGINAL-URL:https://www.srfa.nl
X-WR-CALDESC:Evenementen voor Stichting Register Fiscaal &amp; Financieel Advies
REFRESH-INTERVAL;VALUE=DURATION:PT1H
X-Robots-Tag:noindex
X-PUBLISHED-TTL:PT1H
BEGIN:VTIMEZONE
TZID:Europe/Amsterdam
BEGIN:DAYLIGHT
TZOFFSETFROM:+0100
TZOFFSETTO:+0200
TZNAME:CEST
DTSTART:20220327T010000
END:DAYLIGHT
BEGIN:STANDARD
TZOFFSETFROM:+0200
TZOFFSETTO:+0100
TZNAME:CET
DTSTART:20221030T010000
END:STANDARD
BEGIN:DAYLIGHT
TZOFFSETFROM:+0100
TZOFFSETTO:+0200
TZNAME:CEST
DTSTART:20230326T010000
END:DAYLIGHT
BEGIN:STANDARD
TZOFFSETFROM:+0200
TZOFFSETTO:+0100
TZNAME:CET
DTSTART:20231029T010000
END:STANDARD
BEGIN:DAYLIGHT
TZOFFSETFROM:+0100
TZOFFSETTO:+0200
TZNAME:CEST
DTSTART:20240331T010000
END:DAYLIGHT
BEGIN:STANDARD
TZOFFSETFROM:+0200
TZOFFSETTO:+0100
TZNAME:CET
DTSTART:20241027T010000
END:STANDARD
END:VTIMEZONE
BEGIN:VEVENT
DTSTART;TZID=Europe/Amsterdam:20231010T130000
DTEND;TZID=Europe/Amsterdam:20231010T160000
DTSTAMP:20260425T174104
CREATED:20230215T080518Z
LAST-MODIFIED:20230920T082707Z
UID:21484-1696942800-1696953600@www.srfa.nl
SUMMARY:[Updatesessie] Fiscale actualiteiten (belastingplan editie) (3 PE-punten)
DESCRIPTION:Prinsjesdag is voor de belastingadviseur de mooiste dag van het jaar. Dan wordt het Belastingplan bekendgemaakt\, zodra de staatssecretaris haar koffertje opent. De plannen voor 2024 zijn nog niet bekend\, maar zeker is wel dat de bedrijfsopvolgingsfaciliteit zal worden aangepast. Naast het Belastingplan 2024\, gaan we tijdens deze updatesessie in op het belangrijkste fiscale nieuws voor de inkomstenbelasting\, vennootschapsbelasting en successiewet dat van belang is voor de ondernemer\, de dga en de vermogende particulier. De cursus is gericht op de aandachtspunten voor 2024 en de acties die jij dit jaar nog kunt ondernemen. \nProgramma: \n\nDe belastingplannen 2024\nDe belangrijkste rechtelijke uitspraken 2023\nBeleidswijzigingen\n\nSpreker \nDeze updatesessie wordt gegeven door Daan van Antwerpen & mr. Sybren Christians. Beide werkzaam bij bij Fiscount. Hét kennis\, advies- en trainingscentrum voor de accountancybranche. \nUiterlijke inschrijfdatum: 22-9-2023\nAfmelden uiterlijk 22-9-2023 \nKosten: € 125\,- voor geregistreerden en aspirant-geregistreerden \nAantal PE punten: 3 \nAanmelden kan helaas niet meer voor deze sessie. Het aantal beschikbare plekken is vol geboekt. \n 
URL:https://www.srfa.nl/agenda/updatesessie-fiscale-actualiteiten-belastingplan-editie/
LOCATION:Kloosterhoeve\, Kloosterweg 2\, Harmelen\, 3481 XC
END:VEVENT
END:VCALENDAR