BEGIN:VCALENDAR
VERSION:2.0
PRODID:-//Stichting Register Fiscaal &amp; Financieel Advies - ECPv6.15.20//NONSGML v1.0//EN
CALSCALE:GREGORIAN
METHOD:PUBLISH
X-WR-CALNAME:Stichting Register Fiscaal &amp; Financieel Advies
X-ORIGINAL-URL:https://www.srfa.nl
X-WR-CALDESC:Evenementen voor Stichting Register Fiscaal &amp; Financieel Advies
REFRESH-INTERVAL;VALUE=DURATION:PT1H
X-Robots-Tag:noindex
X-PUBLISHED-TTL:PT1H
BEGIN:VTIMEZONE
TZID:Europe/Amsterdam
BEGIN:DAYLIGHT
TZOFFSETFROM:+0100
TZOFFSETTO:+0200
TZNAME:CEST
DTSTART:20220327T010000
END:DAYLIGHT
BEGIN:STANDARD
TZOFFSETFROM:+0200
TZOFFSETTO:+0100
TZNAME:CET
DTSTART:20221030T010000
END:STANDARD
BEGIN:DAYLIGHT
TZOFFSETFROM:+0100
TZOFFSETTO:+0200
TZNAME:CEST
DTSTART:20230326T010000
END:DAYLIGHT
BEGIN:STANDARD
TZOFFSETFROM:+0200
TZOFFSETTO:+0100
TZNAME:CET
DTSTART:20231029T010000
END:STANDARD
BEGIN:DAYLIGHT
TZOFFSETFROM:+0100
TZOFFSETTO:+0200
TZNAME:CEST
DTSTART:20240331T010000
END:DAYLIGHT
BEGIN:STANDARD
TZOFFSETFROM:+0200
TZOFFSETTO:+0100
TZNAME:CET
DTSTART:20241027T010000
END:STANDARD
END:VTIMEZONE
BEGIN:VEVENT
DTSTART;TZID=Europe/Amsterdam:20230601T100000
DTEND;TZID=Europe/Amsterdam:20230601T160000
DTSTAMP:20260426T000318
CREATED:20230116T105601Z
LAST-MODIFIED:20230523T080447Z
UID:21312-1685613600-1685635200@www.srfa.nl
SUMMARY:[Updatesessie] Financieel: Update Externe Verslaggeving (5 PE-punten)
DESCRIPTION:Externe Verslaggeving is een complex vakgebied en vraagt doorlopend de aandacht van iedere financial. Wat zijn de gevolgen van de nieuwste RJ richtlijnen? Welke wijzigingen komen er op korte termijn op de financial af en wat vraagt dit nu al van de financial?  \nIn deze kennissessie behandelen we op praktische wijze de nieuwste én belangrijkste RJ richtlijnen en de gevolgen voor uw organisatie. Na deze dag zijn de deelnemers weer helemaal op de hoogte van de actualiteit.  \nDaarnaast bespreken we complexe verslaggevingsonderwerpen. Hoe gaat u om met deelnemingen\, overnames\, voorzieningen\, onderhanden projecten en financiële instrumenten in de jaarrekening? Wat zijn de gevolgen van de nieuwe RJ over opbrengstverantwoording? Ook de laatste ontwikkelingen rond duurzaamheidsverslaggeving komen aan bod.   \nProgramma  \n\nActualiteiten RJ en RJK \nRegels rondom opbrengstverantwoording \nOnderhanden projecten \nIntercompany transacties \nDeelnemingen en consolidatie \nVerslaggeving rondom duurzaamheid \n\n* afhankelijk van de actualiteiten het programma kan worden aangepast.  \nSpreker \nDeze fysieke bijeenkomst wordt verzorgd door drs. Gert-Jan Jordaan RA. Gert-Jan is o.a.partner bij Hordijk\, Kok\, Laan & Wabeke\, Registeraccountants\, docent Externe Verslaggeving aan de Nyenrode Business Universiteit en lid bij de Raad voor de Jaarverslaggeving en mag met recht een expert worden genoemd op het gebied van Externe Verslaggeving.  \nMax deelnemers: 50 personen. Vol = vol\, dus meld u tijdig aan. \nUiterlijke inschrijfdatum: 11-5-2023\nAfmelden uiterlijk 11-5-2023 \nKosten: € 190\,- (ex. btw) voor geregistreerden en aspirant-geregistreerden. \nAantal PE punten: 5 \nAanmelden is helaas niet meer mogelijk voor dit evenement.
URL:https://www.srfa.nl/agenda/updatesessie-financieel-update-externe-verslaggeving/
LOCATION:Landgoed Zonheuvel\, Amersfoortseweg 98\, Doorn\, 3941 EP
ATTACH;FMTTYPE=image/png:https://www.srfa.nl/wp-content/uploads/2023/01/Externe-Verslaggeving-1-1-e1681975939618.png
ORGANIZER;CN="SRFA":MAILTO:info@srfa.nl
END:VEVENT
END:VCALENDAR