BEGIN:VCALENDAR
VERSION:2.0
PRODID:-//Stichting Register Fiscaal &amp; Financieel Advies - ECPv6.15.20//NONSGML v1.0//EN
CALSCALE:GREGORIAN
METHOD:PUBLISH
X-WR-CALNAME:Stichting Register Fiscaal &amp; Financieel Advies
X-ORIGINAL-URL:https://www.srfa.nl
X-WR-CALDESC:Evenementen voor Stichting Register Fiscaal &amp; Financieel Advies
REFRESH-INTERVAL;VALUE=DURATION:PT1H
X-Robots-Tag:noindex
X-PUBLISHED-TTL:PT1H
BEGIN:VTIMEZONE
TZID:Europe/Amsterdam
BEGIN:DAYLIGHT
TZOFFSETFROM:+0100
TZOFFSETTO:+0200
TZNAME:CEST
DTSTART:20210328T010000
END:DAYLIGHT
BEGIN:STANDARD
TZOFFSETFROM:+0200
TZOFFSETTO:+0100
TZNAME:CET
DTSTART:20211031T010000
END:STANDARD
BEGIN:DAYLIGHT
TZOFFSETFROM:+0100
TZOFFSETTO:+0200
TZNAME:CEST
DTSTART:20220327T010000
END:DAYLIGHT
BEGIN:STANDARD
TZOFFSETFROM:+0200
TZOFFSETTO:+0100
TZNAME:CET
DTSTART:20221030T010000
END:STANDARD
BEGIN:DAYLIGHT
TZOFFSETFROM:+0100
TZOFFSETTO:+0200
TZNAME:CEST
DTSTART:20230326T010000
END:DAYLIGHT
BEGIN:STANDARD
TZOFFSETFROM:+0200
TZOFFSETTO:+0100
TZNAME:CET
DTSTART:20231029T010000
END:STANDARD
BEGIN:DAYLIGHT
TZOFFSETFROM:+0100
TZOFFSETTO:+0200
TZNAME:CEST
DTSTART:20240331T010000
END:DAYLIGHT
BEGIN:STANDARD
TZOFFSETFROM:+0200
TZOFFSETTO:+0100
TZNAME:CET
DTSTART:20241027T010000
END:STANDARD
END:VTIMEZONE
BEGIN:VEVENT
DTSTART;TZID=Europe/Amsterdam:20230524T100000
DTEND;TZID=Europe/Amsterdam:20230524T160000
DTSTAMP:20260426T030119
CREATED:20230116T104602Z
LAST-MODIFIED:20230511T104525Z
UID:21308-1684922400-1684944000@www.srfa.nl
SUMMARY:[Updatesessie] Fiscaal: BTW Actualiteiten 2023-2024 (5 PE-punten)
DESCRIPTION:De BTW verandert dagelijks. Welke actualiteiten hebben gevolgen voor uw praktijk? Denk bijvoorbeeld aan doorbelastingen tussen een holding en een werkmaatschappij en diverse regelingen als u handel drijft met het buitenland. Wat zijn hierbij de aandachtspunten voor de administratie? Waar moet u op letten bij het doen van de laatste BTW-aangifte 2023?  \nHet is belangrijk uw klant in een vroeg stadium te informeren over mogelijke BTW-risico’s. Het is van groot belang dat u deze risico’s en veranderingen in de gaten houdt. Als u goed op de hoogte bent van de laatste ontwikkelingen in de BTW\, kunt u voor uw klant veel geld besparen. Signaleer BTW-risico’s\, voorkom naheffing en boetes! Met veel praktische tips stellen wij u in één dag op de hoogte van alle BTW-highlights. U beperkt BTW-risico’s en verbetert de BTW-positie van uw mkb-klant.  \nTijdens deze dag komen alle Nederlandse BTW actualiteiten aan de orde. Ook worden een aantal praktische tips besproken waarmee u BTW-naheffingsaanslagen kunt voorkomen en BTW-risico’s kunt beperken. Er is veel ruimte voor het stellen van vragen en het behandelen van praktijkvoorbeelden. Na deze cursus bent u weer helemaal op de hoogte van alle actuele kwesties op het gebied van BTW!   \nUw eigen BTW-vraagstukken staan centraal. Het is mogelijk om voorafgaand zelf onderwerpen aan te dragen zodat deze besproken zullen worden.  \n   \nProgramma  \nTijdens deze updatesessie komen de volgende onderwerpen aan bod:  \n\nBtw actualiteiten \nBtw tips en trucs \nBtw en de (laatste) aangifte van 2023 \n\n*De definitieve cursusinhoud is afhankelijk van de actualiteiten.  \nSpreker  \nDeze fysieke bijeenkomst wordt verzorgd door Carola van Vilsteren. Na haar studie Fiscaal Recht (Katholieke Universiteit in Brabant) heeft Carola van Vilsteren gewerkt bij Ernst & Young en BDO Accountants & Adviseurs. In 2003 was de tijd rijp om een eigen onderneming te starten: Van Vilsteren BTW advies. Van Vilsteren lost samen met andere ervaren adviseurs btw-vraagstukken op en geeft praktische\, onafhankelijke btw-adviezen. Van Vilsteren BTW advies is werkzaam voor bedrijven\, overheid en non-profitorganisaties.  \nNaast het geven van praktische adviezen bestaan haar werkzaamheden voor een groot deel uit het doorlichten van organisaties op de aanwezigheid van fiscale valkuilen en het schrijven en implementeren van btw-handboeken. Tevens begeleidt zij Horizontaal Toezicht-projecten en risicoanalyses en doet zij veel door de Belastingdienst geaccordeerde steekproeven op de inkomende en uitgaande geldstromen. Daarnaast verzorgt Van Vilsteren (in-company) cursussen\, geeft zij boeken uit en publiceert zij in verschillende vakbladen.  \nMax deelnemers: 50 personen. Vol = vol\, dus meld u tijdig aan. \nUiterlijke inschrijfdatum: 3-5-2023\nAfmelden uiterlijk 3-5-2023 \nAanmelden is helaas niet meer mogelijk voor dit evenement. \nKosten: € 190\,- (ex. btw) voor geregistreerden en aspirant-geregistreerden. \nAantal PE punten: 5 \n 
URL:https://www.srfa.nl/agenda/updatesessie-fiscaal-btw-actualiteiten-2023-2024/
LOCATION:Carlton President Utrecht\, Floraweg 25\, Utrecht\, 3542 DX
ATTACH;FMTTYPE=image/png:https://www.srfa.nl/wp-content/uploads/2023/01/BTW-Actualiteiten-1-1.png
END:VEVENT
BEGIN:VEVENT
DTSTART;TZID=Europe/Amsterdam:20230328T090000
DTEND;TZID=Europe/Amsterdam:20230328T120000
DTSTAMP:20260426T030119
CREATED:20230116T103021Z
LAST-MODIFIED:20230323T144349Z
UID:21304-1679994000-1680004800@www.srfa.nl
SUMMARY:[Updatesessie] Financieel: IRFS versus Dutch Gaap
DESCRIPTION:Als financial moet je verschillende verslagleggingsregels kunnen beheersen. Als beursgenoteerde onderneming heb je te voldoen aan de door de International Financial Reporting Standards zoals door de EU aangenomen (EU-IFRS). Andere ondernemingen hebben de mogelijkheid om te voldoen aan de Richtlijnen voor de Jaarverslaggeving (Dutch GAAP) of EU-IFRS. In deze kennissessie leer je de belangrijkste verschillen te herkennen en toe te passen.  \nTijdens deze boeiende online sessie krijg je dieper inzicht in IFRS\, de toepassing hiervan en de verschillen met Dutch GAAP. Zo ga je aan de slag met de verschillen tussen rules-based en principles-based accounting standards. Je leert verder over de verschillende toepassingen van IFRS en Dutch GAAP en je weet precies wanneer je welke regels moet toepassen. Na afloop van deze praktijkgerichte updatesessie heb je basiskennis verkregen van zowel IFRS als Dutch GAAP en kun je omgaan met de verschillende regels op het gebied van accounting.   \nProgramma  \nTijdens de updatesessie komen de volgende onderwerpen aan bod:  \n\nToepassingsgebied IFRS/Dutch GAAP\nRules-based/principles-based \nIFRS 16 Leasing en RJ 292 Leasing \nIAS 36 Impairment en RJ 121 Bijzondere waardevermindering \nAndere belangrijke verschillen\, waaronder het bestuursverslag en de wettelijke controle \n\n*De definitieve cursusinhoud is afhankelijk van de actualiteiten.  \nSpreker  \nDeze online kennissessie wordt verzorgd door Edwin Mafficioli del Castelletto. Edwin is als accountant werkzaam in de controlepraktijk. Hij is directeur controlepraktijk van JPA Van Noort Gassler & Co\, een middelgroot accountantskantoor met zes vestigingen in Nederland. Hij heeft 20 jaar ervaring met de controle van en advies aan DGA’s\, familiebedrijven\, (groot) MKB en internationale holdings. Deze klanten zitten voornamelijk in de marktsectoren vastgoed\, handel\, (IT) dienstverlening\, financial services en non-profit organisaties.  \nDe dienstverlening die Edwin verricht bestaat voor voornamelijk uit Audit (externe accountantscontrole)\, Accountancy (samenstellen jaarrekening en administratieve dienstverlening) en Transactions (due diligence en herstructurering)  \nEdwin is expert op het gebied van\, Wettelijke controle van jaarrekeningen\, Externe verslaggeving met uitstekende kennis van Dutch GAAP en Advisering rondom bedrijfsvoering\, AO processen\, investeringen en overnames  \nUiterlijke inschrijfdatum: 22-3-2023\nAfmelden uiterlijk 27-3-2023 \nKosten: € 0\,- voor geregistreerden en aspirant-geregistreerden. \nAantal PE punten: 3 \n 
URL:https://www.srfa.nl/agenda/updatesessie-financieel-irfs-versus-dutch-gaap-online/
LOCATION:Online
END:VEVENT
BEGIN:VEVENT
DTSTART;TZID=Europe/Amsterdam:20230322T090000
DTEND;TZID=Europe/Amsterdam:20230322T120000
DTSTAMP:20260426T030119
CREATED:20230116T102121Z
LAST-MODIFIED:20230316T084523Z
UID:21298-1679475600-1679486400@www.srfa.nl
SUMMARY:[Updatesessie] Fiscaal: Internationaal Belastingrecht
DESCRIPTION:Ben jij op de hoogte van de valkuilen van het internationale belastingrecht? Waar loop je in de praktijk tegenaan als je zaken doet met het buitenland? Waar is het salaris van die buitenlandse werknemer eigenlijk belast? Klopt het dat een bv automatisch meeverhuist met de aandeelhouder? Welke constructies moet je als adviseur melden bij de overheid? In deze kennissessie behandelen we de hoofdlijnen van de diverse internationale regelingen. Je leert op een praktische manier de risico’s her(kennen) en de kansen benutten. \nProgramma \n\nWoon- en vestigingsplaats: het begin van belastingheffing\nHet Besluit Voorkoming Dubbele Belasting\nInternationale Belastingverdragen; hoofdlijnen OESO Modelverdrag\nWerken over de grens: Internationale salarissplitsing en sociale zekerheid\nTransfer pricing\nMandatory disclosure\n\n*De definitieve cursusinhoud is afhankelijk van de actualiteiten.  \nSpreker \nDeze online kennissessie wordt verzorgd door Heleen Elbert. Heleen is fiscaal jurist en oud-belastinginspecteur. Zij is werkzaam als belastingadviseur bij ELBERT FISCAAL. Als auteur is zij verbonden aan o.m. het Nederlands Tijdschrift voor Fiscaal Recht\, de fiscale encyclopedie Nederlandse Documentatie Fiscaal Recht en het tijdschrift Belastingzaken. Daarnaast zijn onder meer de volgende boeken van haar hand: ‘De auto\, zakelijk en privé’ (Sdu Uitgevers) en ‘Parkeerbon? Nee dank u!’ (Bzzztôh). Daarnaast geeft zij regelmatig lezingen en trainingen op\, onder meer\, het gebied van de autobelastingen.  \nHeleen focust zeker niet alleen op autobelastingen. Met haar brede fiscale kennis adviseert zij ondernemers ook inzake estate planning\, firmaproblematiek in het mkb en echtscheiding.  \nUiterlijke inschrijfdatum: 15-3-2023\nAfmelden uiterlijk 21-3-2023 \nKosten: € 0\,- voor geregistreerden en aspirant-geregistreerden. \nAantal PE punten: 3 \n 
URL:https://www.srfa.nl/agenda/updatesessie-fiscaal-internationaal-belastingrecht/
LOCATION:Online
ORGANIZER;CN="SRFA":MAILTO:info@srfa.nl
END:VEVENT
BEGIN:VEVENT
DTSTART;TZID=Europe/Amsterdam:20221118T100000
DTEND;TZID=Europe/Amsterdam:20221118T160000
DTSTAMP:20260426T030119
CREATED:20221004T100945Z
LAST-MODIFIED:20230224T150932Z
UID:21105-1668765600-1668787200@www.srfa.nl
SUMMARY:[Updatesessie] Fiscale gevolgen Prinsjesdag + Erfrecht met Heleen Elbert
DESCRIPTION:Heleen Elbert is fiscaal jurist en heeft ruime praktijkervaring als belastinginspecteur en belastingadviseur. Ze is een van de sprekers die in de beginperiode van SRFA al eens een kennissessie heeft verzorgd. Deze sessie werd zeer hoog gewaardeerd. \nZoals u weet\, staat er dit jaar weer het nodige op de agenda van het kabinet. Wat staat ons te wachten op belastinggebied? En wat zijn de actualiteiten op het terrein van het erfrecht? Heleen Elbert praat u graag bij. Hoewel de meeste Prinsjesdagzaken pas op het laatst bekend worden gemaakt\, verwacht zij het nodige op het terrein van de jubelton en de bedrijfsopvolgingsregeling. Wijzigt er weer wat op het gebied van de eigen woningregeling? Gaat de wet excessief lenen echt door? Wat is het laatste nieuws over de vermogensrendementsheffing? Gaat het box 2 tarief nog omhoog? Kortom\, er is genoeg te vertellen verwachten wij. Uiteraard nemen wij de meest actuele stand van zaken in wetgeving en jurisprudentie mee. \nOnderwerpen: \n•    Actualiteiten Erfrecht \n•    Fiscale actualiteiten n.a.v. Prinsjesdag \n•    BTW en Belastingplan 2023 \nDe definitieve cursusinhoud is afhankelijk van de actualiteiten. \nAanmelden:\nUiterlijke inschrijfdatum: 11-5-2023\nAfmelden uiterlijk 11-5-2023 \nKosten: € 190\,- (ex. btw) voor geregistreerden en aspirant-geregistreerden. \nAantal PE punten: 5 \nAanmelden kan via onderstaand formulier. \nGeregistreerden melden zich aan via MijnSRFA – aanmelden updatesessies (i.v.m. PE registratie) \nAspiranten kunnen zich aanmelden via het formulier op deze pagina.
URL:https://www.srfa.nl/agenda/updatesessie-fiscale-gevolgen-prinsjesdag-erfrecht-met-heleen-elbert/
LOCATION:Online
ATTACH;FMTTYPE=image/jpeg:https://www.srfa.nl/wp-content/uploads/2022/10/koffertje-met-begrotingsstukken-prinsjesdag-2018-e1664894903250.jpeg
ORGANIZER;CN="SRFA":MAILTO:info@srfa.nl
END:VEVENT
END:VCALENDAR